BEGIN:VCALENDAR
VERSION:2.0
PRODID:-//wp-events-plugin.com//7.2.3.1//EN
TZID:America/Detroit
X-WR-TIMEZONE:America/Detroit
BEGIN:VEVENT
UID:69766@annarborwithkids.com
DTSTART;TZID=America/Detroit:20260314T100000
DTEND;TZID=America/Detroit:20260314T114500
DTSTAMP:20260218T214033Z
URL:https://annarborwithkids.com/events/run-for-the-gold/
SUMMARY:Run for The Gold
DESCRIPTION:\nThe 14th annual Run for the Gold parade returns to Pinckney. 
 It is typically held before the St Patrick's Day Parade. The race announce
 ment says the parade is at noon\, although we don't have details on the pa
 rade on their Facebook or the Village of Pinckney website.\n\n\n\n\n10a = 
 5K Run/Walk - Registration $30 by March 8\, $35 by March 13\, and $40 day 
 of race\n\n\n\n11a - 1/4 mile Kids Run - $10 \n\n\n\n\nThe run is across a
  mix of country dirt roads\, paved trails\, and the streets of Downtown Pi
 nckney.\n\n\n\nThe 5k starts at 10a with the kids race at 11a\n\n\n\nThe p
 arade is scheduled for noon.\n\n\n\n\n\n\n
CATEGORIES:Advance Registration,Arbor Annie's
 Highlights,Elementary,Fitness/Health,High Schoolers,Middle
 Schoolers,Outdoor,Parents,Race,St Patrick's Day
LOCATION:Main Street Pinckney\, Main Street\, PInckney\, Michigan\, 48169\,
  Pinckney\, United States
GEO:42.4569689;-83.94032010000001
X-APPLE-STRUCTURED-LOCATION;VALUE=URI;X-ADDRESS=Main Street\, PInckney\, Mi
 chigan\, 48169\, Pinckney\, United States;X-APPLE-RADIUS=100;X-TITLE=Main 
 Street Pinckney:geo:42.4569689,-83.94032010000001
END:VEVENT
BEGIN:VTIMEZONE
TZID:America/Detroit
X-LIC-LOCATION:America/Detroit
BEGIN:DAYLIGHT
DTSTART:20260308T030000
TZOFFSETFROM:-0500
TZOFFSETTO:-0400
TZNAME:EDT
END:DAYLIGHT
END:VTIMEZONE
END:VCALENDAR