BEGIN:VCALENDAR
VERSION:2.0
PRODID:-//wp-events-plugin.com//7.2.3.1//EN
TZID:America/Detroit
X-WR-TIMEZONE:America/Detroit
BEGIN:VEVENT
UID:32236@annarborwithkids.com
DTSTART;TZID=America/Detroit:20250711T140000
DTEND;TZID=America/Detroit:20250711T220000
DTSTAMP:20250630T224343Z
URL:https://annarborwithkids.com/events/rolling-sculpture-car-show-3/
SUMMARY:Rolling Sculpture Car Show
DESCRIPTION:\nHead to Main Street&nbsp\;for the Rolling Sculpture Car Show.
  Check out classic and unique vehicles. We always have a great time at the
  Rolling Sculpture Car Show.\n\n\n\nAADL will have family activities at th
 eir table. Hopefully they'll have a summer game code - or two.\n\n\n\nMake
  a plan to have dinner while downtown. Or\, at least plan to stop in for d
 essert at one of the many dessert options including ice cream at Milk &amp
 \; Froth\, Blank Slate\, or Kilwin's (or chocolate)\, or find pastries at 
 places like Bakehouse 46\, Cinnaholic or one of the coffee shops.\n\n\n\nR
 eviews:\n\n\n\n\n2014 - Fun Night at Rolling Sculpture Car Show\n\n\n\n201
 0 Rolling Sculpture Car Show\n\n\n\n\n\n
ATTACH;FMTTYPE=image/jpeg:https://annarborwithkids.com/wp-content/uploads/
 2017/07/rolling-sculpture-car-show-ferrari-2009.jpg
CATEGORIES:Age Range,Arbor Annie's Highlights,Babies,Car
 Show,Elementary,Free,High Schoolers,Middle
 Schoolers,Parents,Preschoolers,Toddler,Vehicles
LOCATION:Main Street Area\, Main Street and Liberty\, Ann Arbor \, MI\, 481
 04\, Downtown\, United States
GEO:42.2795761;-83.74859989999999
X-APPLE-STRUCTURED-LOCATION;VALUE=URI;X-ADDRESS=Main Street and Liberty\, A
 nn Arbor \, MI\, 48104\, Downtown\, United States;X-APPLE-RADIUS=100;X-TIT
 LE=Main Street Area:geo:42.2795761,-83.74859989999999
END:VEVENT
BEGIN:VTIMEZONE
TZID:America/Detroit
X-LIC-LOCATION:America/Detroit
BEGIN:DAYLIGHT
DTSTART:20250309T030000
TZOFFSETFROM:-0500
TZOFFSETTO:-0400
TZNAME:EDT
END:DAYLIGHT
END:VTIMEZONE
END:VCALENDAR