BEGIN:VCALENDAR
VERSION:2.0
PRODID:-//wp-events-plugin.com//7.2.3.1//EN
TZID:America/Detroit
X-WR-TIMEZONE:America/Detroit
BEGIN:VEVENT
UID:93488@annarborwithkids.com
DTSTART;TZID=America/Detroit:20260503T140000
DTEND;TZID=America/Detroit:20260503T140000
DTSTAMP:20260407T145409Z
URL:https://annarborwithkids.com/events/rodgers-hammersteins-cinderella-20
 26-05-03/
SUMMARY:Rodgers &amp\; Hammerstein's Cinderella
DESCRIPTION:\nSkyline Theatre invites you to Rodgers &amp\; Hammerstein's C
 inderella. \n\n\n\n\n\n\nSkyline High School Theatre presents Rodgers and 
 Hammerstein’s Cinderella&nbsp\;\n\n\n\nYoung fans are invited to a speci
 al Meet &amp\; Greet event with cast members!\n\n\n\nSkyline High School T
 heatre will make dreams come true this spring with Rodgers and Hammerstein
 ’s Cinderella.\n\n\n\nThis classic musical will be performed May 1-3 at 
 Skyline High School\, 2552 N. Maple Rd.\, in Ann Arbor. Shows are at 7 p.m
 . Friday and Saturday and 2 p.m. Sunday. &nbsp\;\n\n\n\nTickets are $15 fo
 r adults and $10 for students. They are available in advance at http://a2s
 kylinetheatre.ludus.com or at the door starting 30 minutes prior to the sh
 ow.\n\n\n\nYoung fans are also invited to a Meet &amp\; Greet with cast me
 mbers on May 2 from 1:30 p.m. – 3:00 p.m. at Schuler Books. Guests will 
 make a royal craft\, sparkle with face crystals\, get their photos taken a
 nd go home with a special cookie. Tickets are $15 per child and are availa
 ble at http://a2skylinetheatre.ludus.com. Please RSVP by April 24.\n\n\n\n
 Rodgers and Hammerstein’s Cinderella was first performed in 1957 in a li
 ve television broadcast. The show made its Broadway debut in 2013 with ori
 ginal songs and a new book by Douglas Carter Beane.\n\n\n\nSkyline Theatre
  Artistic Director Kristine Stephens said the musical is very different fr
 om the original Disney movie\, with more character development and female 
 agency.\n\n\n\n“I do recommend going in with an open mind so you can emb
 race all of the new characters and storylines. At its heart\, it is still 
 a tale of falling in love and believing you are more than what you've been
  told you are\,” Stephens said.\n\n\n\nStephens said she has long wanted
  to direct this musical\, and the team at Skyline was enthusiastic when sh
 e suggested it.&nbsp\;\n\n\n\n“The music is beautiful and provides ample
  opportunities&nbsp\;for our musicians and singers to be involved and grow
  in their craft. Furthermore\, I was hoping that the well-known name and s
 tory would draw in lots of student participation and audience interest\,
 ” she said.\n\n\n\nMore than 100 students are involved in the cast and c
 rew for Skyline’s production.\n\n\n\n“This is a large show in all tech
 nical areas regarding costumes\, props\, set design and music\, so I hope 
 the students come away with&nbsp\;pride in all that they will accomplish a
 nd put together as a team\,” Stephens said. “Honestly\, I also hope th
 at one of their big takeaways is that magic can happen in all forms and at
  any age\, especially when they least expect it.”\n\n\n\nFor more inform
 ation\, please contact Kristine Stephens at stephensk@aaps.k12.mi.us.\n\n\
 n\n\n\n\n\n\n\n\n\n\n\n\nCinderella Showtimes\n\n\n\n[events_list tag="sky
 linetheater" scope="2026-05-01\,2026-05-18"]🚗 #_{l\, F j} at #_EVENTTIM
 ES - #_EVENTLINK at Skyline High School [/events_list]\n\n\n
CATEGORIES:Advance Registration,Arbor Annie's Highlights,Elementary,High
 Schoolers,Indoor Activities,Middle Schoolers,Optional
 Registration,Parents,Theater
LOCATION:Skyline High School\, 2552 N. Maple\, Ann Arbor\, Michigan\, 48103
 \, West Ann Arbor\, United States
GEO:42.30482;-83.77894320000001
X-APPLE-STRUCTURED-LOCATION;VALUE=URI;X-ADDRESS=2552 N. Maple\, Ann Arbor\,
  Michigan\, 48103\, West Ann Arbor\, United States;X-APPLE-RADIUS=100;X-TI
 TLE=Skyline High School:geo:42.30482,-83.77894320000001
END:VEVENT
BEGIN:VTIMEZONE
TZID:America/Detroit
X-LIC-LOCATION:America/Detroit
BEGIN:DAYLIGHT
DTSTART:20260308T030000
TZOFFSETFROM:-0500
TZOFFSETTO:-0400
TZNAME:EDT
END:DAYLIGHT
END:VTIMEZONE
END:VCALENDAR