BEGIN:VCALENDAR
VERSION:2.0
PRODID:-//wp-events-plugin.com//7.2.3.1//EN
TZID:America/Detroit
X-WR-TIMEZONE:America/Detroit
BEGIN:VEVENT
UID:88772@annarborwithkids.com
DTSTART;TZID=America/Detroit:20260417T160000
DTEND;TZID=America/Detroit:20260417T180000
DTSTAMP:20250828T191556Z
URL:https://annarborwithkids.com/events/riot-youth-2026-04-17/
SUMMARY:Riot Youth
DESCRIPTION:\nOn Friday evenings head to Neutral Zone for Riot Youth\, a yo
 uth-led social support and social justice program for LGBTQ+ teens. \n\n\n
 \nRiot Youth has served SE Michigan for more than 20 years with meetings\,
  lobbying\, and more\n\n\n\nFree registration at the Neutral Zone is requi
 red to attend any event there.\n\n\n\n\n
CATEGORIES:Advance Registration,Free,High Schoolers,Indoor
 Activities,LGBTQ+,Support Group
LOCATION:Neutral Zone\, 310 E. Washington St\, Ann Arbor\, Michigan\, 48104
 \, Downtown\, United States
GEO:42.2801422;-83.74561110000002
X-APPLE-STRUCTURED-LOCATION;VALUE=URI;X-ADDRESS=310 E. Washington St\, Ann 
 Arbor\, Michigan\, 48104\, Downtown\, United States;X-APPLE-RADIUS=100;X-T
 ITLE=Neutral Zone:geo:42.2801422,-83.74561110000002
END:VEVENT
BEGIN:VTIMEZONE
TZID:America/Detroit
X-LIC-LOCATION:America/Detroit
BEGIN:DAYLIGHT
DTSTART:20260308T030000
TZOFFSETFROM:-0500
TZOFFSETTO:-0400
TZNAME:EDT
END:DAYLIGHT
END:VTIMEZONE
END:VCALENDAR