BEGIN:VCALENDAR
VERSION:2.0
PRODID:-//wp-events-plugin.com//7.2.3.1//EN
TZID:America/Detroit
X-WR-TIMEZONE:America/Detroit
BEGIN:VEVENT
UID:90065@annarborwithkids.com
DTSTART;TZID=America/Detroit:20260425T140000
DTEND;TZID=America/Detroit:20260425T140000
DTSTAMP:20251014T211523Z
URL:https://annarborwithkids.com/events/ride-the-cyclone-2026-04-25/
SUMMARY:Ride the Cyclone
DESCRIPTION:\nHuron High School is performing Ride the Cyclone as their spr
 ing musical.\n\n\n\nTo decide if the show is right for your younger childr
 en\, the plot description\, from the musical's website is included below:\
 n\n\n\n\nIn this hilarious and outlandish story\, the lives of six teenage
 rs from a Canadian chamber choir are cut short in a freak accident aboard 
 a roller coaster. When they awake in limbo\, a mechanical fortune teller i
 nvites each to tell a story to win a prize like no other — the chance to
  return to life. This popular musical is a funny\, moving look at what mak
 es a life well-lived!\n\n\n\n\n\n\n\n\nRide the Cyclone Showtimes\n\n\n\n[
 events_list tag="huron players" scope="2026-04-01\,2026-04-30"]🎢 #_{l F
 \, j} at #_EVENTTIMES - #_EVENTLINK at Huron High School[/events_list]\n\n
 \n\n\n
CATEGORIES:Advance Registration,Arbor Annie's Highlights,Elementary,High
 Schoolers,Indoor Activities,Middle Schoolers,Optional
 Registration,Parents,Theater
LOCATION:Huron High School\, 2727 Fuller Rd\, Ann Arbor\, Michigan\, 48105\
 , East\, United States
GEO:42.2808629;-83.702426
X-APPLE-STRUCTURED-LOCATION;VALUE=URI;X-ADDRESS=2727 Fuller Rd\, Ann Arbor\
 , Michigan\, 48105\, East\, United States;X-APPLE-RADIUS=100;X-TITLE=Huron
  High School:geo:42.2808629,-83.702426
END:VEVENT
BEGIN:VTIMEZONE
TZID:America/Detroit
X-LIC-LOCATION:America/Detroit
BEGIN:DAYLIGHT
DTSTART:20260308T030000
TZOFFSETFROM:-0500
TZOFFSETTO:-0400
TZNAME:EDT
END:DAYLIGHT
END:VTIMEZONE
END:VCALENDAR