BEGIN:VCALENDAR
VERSION:2.0
PRODID:-//wp-events-plugin.com//7.2.3.1//EN
TZID:America/Detroit
X-WR-TIMEZONE:America/Detroit
BEGIN:VEVENT
UID:77270@annarborwithkids.com
DTSTART;TZID=America/Detroit:20260418T110000
DTEND;TZID=America/Detroit:20260418T170000
DTSTAMP:20260323T180937Z
URL:https://annarborwithkids.com/events/record-store-day/
SUMMARY:Record Store Day
DESCRIPTION:\nCome to the Downtown library for a pop-up record fair in the 
 lobby\, with vendors selling used records and gear.&nbsp\;DJ Dave Lawson&n
 bsp\;and&nbsp\;DJ Batz&nbsp\;will be spinning vinyl records all day while 
 you check out the vendors\, pick up a cool pinback button\, or make one yo
 urself!\n\n\n\nFor kids through adults. Held in First Floor Lobby\n
CATEGORIES:Arbor Annie's Highlights,Crafts,Elementary,Free,High
 Schoolers,Indoor Activities,Middle Schoolers,Music/Concerts,Parents
LOCATION:Downtown Branch of AADL\, 343 South Fifth Avenue\, Ann Arbor\, Mic
 higan\, 48104\, Downtown\, United States
GEO:42.278198;-83.745971
X-APPLE-STRUCTURED-LOCATION;VALUE=URI;X-ADDRESS=343 South Fifth Avenue\, An
 n Arbor\, Michigan\, 48104\, Downtown\, United States;X-APPLE-RADIUS=100;X
 -TITLE=Downtown Branch of AADL:geo:42.278198,-83.745971
END:VEVENT
BEGIN:VTIMEZONE
TZID:America/Detroit
X-LIC-LOCATION:America/Detroit
BEGIN:DAYLIGHT
DTSTART:20260308T030000
TZOFFSETFROM:-0500
TZOFFSETTO:-0400
TZNAME:EDT
END:DAYLIGHT
END:VTIMEZONE
END:VCALENDAR