BEGIN:VCALENDAR
VERSION:2.0
PRODID:-//wp-events-plugin.com//7.2.3.1//EN
TZID:America/Detroit
X-WR-TIMEZONE:America/Detroit
BEGIN:VEVENT
UID:93240@annarborwithkids.com
DTSTART;TZID=America/Detroit:20260513T173000
DTEND;TZID=America/Detroit:20260513T183000
DTSTAMP:20260323T203234Z
URL:https://annarborwithkids.com/events/reading-readiness-book-club-2026-0
 4-08-2026-05-13/
SUMMARY:Reading Readiness Book Club
DESCRIPTION:\nA family-oriented book club to showcase techniques for pre-re
 aders in a low-pressure\, supportive environment! Caregivers and kids will
  work together to understand pre-reading skills\, how they support reading
  readiness\, and how to practice them!&nbsp\;\n\n\n\nLearn more about how 
 to support and practice early literacy and the importance of family involv
 ement. Targeted for ages 3-6 years old showing interest in reading or any 
 young child that likes to sit and read with a caregiver. Each family unit 
 will leave with a book to practice skills at home and age-appropriate tips
  and tricks for practicing pre-reading skills. Each child needs a caregive
 r to complete the program.\n\n\n\nEach family unit will leave with a book 
 to practice skills at home as well as age appropriate tips and tricks for 
 practicing pre-reading skills.\n\n\n\n\n
CATEGORIES:Advance Registration,Arbor Annie's Highlights,Book Club/Reading
 Event,Elementary,Free,Indoor Activities,Preschoolers,Registration
 Required,Storytime
LOCATION:Ypsilanti District Library - Michigan Ave Branch\, 229 West Michig
 an Avenue\, Ypsilanti\, Michigan\, 48197\, Ypsilanti\, United States
GEO:42.240746;-83.61565
X-APPLE-STRUCTURED-LOCATION;VALUE=URI;X-ADDRESS=229 West Michigan Avenue\, 
 Ypsilanti\, Michigan\, 48197\, Ypsilanti\, United States;X-APPLE-RADIUS=10
 0;X-TITLE=Ypsilanti District Library - Michigan Ave Branch:geo:42.240746,-
 83.61565
END:VEVENT
BEGIN:VTIMEZONE
TZID:America/Detroit
X-LIC-LOCATION:America/Detroit
BEGIN:DAYLIGHT
DTSTART:20260308T030000
TZOFFSETFROM:-0500
TZOFFSETTO:-0400
TZNAME:EDT
END:DAYLIGHT
END:VTIMEZONE
END:VCALENDAR