BEGIN:VCALENDAR
VERSION:2.0
PRODID:-//wp-events-plugin.com//7.2.3.1//EN
TZID:America/Detroit
X-WR-TIMEZONE:America/Detroit
BEGIN:VEVENT
UID:92613@annarborwithkids.com
DTSTART;TZID=America/Detroit:20260521T174500
DTEND;TZID=America/Detroit:20260521T193500
DTSTAMP:20260219T202026Z
URL:https://annarborwithkids.com/events/read-to-bambi-the-library-dog-2026
 -05-21/
SUMMARY:Read to Bambi the Library Dog
DESCRIPTION:\nChildren can gain confidence in their reading by reading to a
  Therapaws dog at the Michigan Ave branch of Ypsilanti Library.\n\n\n\nReg
 istration required. Email nrussel@ypsilibrary.org to sign up for a 10 minu
 te slot.\n\n\n\nBambi is at the library the 3rd Thursdays of the month.\n
CATEGORIES:Advance Registration,Animals,Book Club/Reading
 Event,Elementary,Free,Indoor Activities
LOCATION:Ypsilanti District Library - Superior\, 1900 Harris Rd\, Ypsilanti
 \, Michigan\, 48198\, Ypsilanti\, United States
GEO:42.270591;-83.584503
X-APPLE-STRUCTURED-LOCATION;VALUE=URI;X-ADDRESS=1900 Harris Rd\, Ypsilanti\
 , Michigan\, 48198\, Ypsilanti\, United States;X-APPLE-RADIUS=100;X-TITLE=
 Ypsilanti District Library - Superior:geo:42.270591,-83.584503
END:VEVENT
BEGIN:VTIMEZONE
TZID:America/Detroit
X-LIC-LOCATION:America/Detroit
BEGIN:DAYLIGHT
DTSTART:20260308T030000
TZOFFSETFROM:-0500
TZOFFSETTO:-0400
TZNAME:EDT
END:DAYLIGHT
END:VTIMEZONE
END:VCALENDAR