BEGIN:VCALENDAR
VERSION:2.0
PRODID:-//wp-events-plugin.com//7.2.3.1//EN
TZID:America/Detroit
X-WR-TIMEZONE:America/Detroit
BEGIN:VEVENT
UID:93278@annarborwithkids.com
DTSTART;TZID=America/Detroit:20260506T103000
DTEND;TZID=America/Detroit:20260506T113000
DTSTAMP:20260323T210749Z
URL:https://annarborwithkids.com/events/read-sing-play-2026-04-15-2026-04-
 22-2026-04-29-2026-05-06/
SUMMARY:Read Sing Play
DESCRIPTION:\nLearn colors\, shapes\, and numbers through music and movemen
 t. Each week they'll read a book and sing lots of songs\, then parents can
  stay and chat while kids play nearby.\n\n\n\nHeld from 10:30-11:30a on:\n
 \n\n\n\nWednesdays at Superior Branch\n\n\n\nThursdays at Whittaker Branch
 \n\n\n\n\nThe spring session runs April 15-May 6\n\n\n\nFor ages 1-3.\n\n\
 n\n\n
CATEGORIES:Free,Indoor
 Activities,Music/Concerts,Preschoolers,Storytime,Toddler
LOCATION:Ypsilanti District Library - Superior\, 1900 Harris Rd\, Ypsilanti
 \, Michigan\, 48198\, Ypsilanti\, United States
GEO:42.270591;-83.584503
X-APPLE-STRUCTURED-LOCATION;VALUE=URI;X-ADDRESS=1900 Harris Rd\, Ypsilanti\
 , Michigan\, 48198\, Ypsilanti\, United States;X-APPLE-RADIUS=100;X-TITLE=
 Ypsilanti District Library - Superior:geo:42.270591,-83.584503
END:VEVENT
BEGIN:VTIMEZONE
TZID:America/Detroit
X-LIC-LOCATION:America/Detroit
BEGIN:DAYLIGHT
DTSTART:20260308T030000
TZOFFSETFROM:-0500
TZOFFSETTO:-0400
TZNAME:EDT
END:DAYLIGHT
END:VTIMEZONE
END:VCALENDAR