BEGIN:VCALENDAR
VERSION:2.0
PRODID:-//wp-events-plugin.com//7.2.3.1//EN
TZID:America/Detroit
X-WR-TIMEZONE:America/Detroit
BEGIN:VEVENT
UID:92957@annarborwithkids.com
DTSTART;TZID=America/Detroit:20260311T190000
DTEND;TZID=America/Detroit:20260311T200000
DTSTAMP:20260310T210134Z
URL:https://annarborwithkids.com/events/ramadan-program/
SUMMARY:Ramadan Program
DESCRIPTION:\nCurious about Ramadan?  Join Saline District Library for an 
 engaging overview of the holy month of Ramadan\, exploring traditions from
  around the world\, including food\, fasting\, and spiritual practices. Th
 ey will also discuss how Ramadan is observed in Michigan.\n\n\n\nThis prog
 ram welcomes all participants and encourages questions and discussion.\n\n
 \n\nRegistration is requested.\n\n\n\nFor teens and adults.\n
CATEGORIES:Advance Registration,Arbor Annie's Highlights,Cultural
 Celebration,Free,High Schoolers,Indoor Activities,Optional
 Registration,Parents,Ramadan
LOCATION:Saline District Library\, 555 N. Maple Rd\, Saline\, Michigan\, 48
 176\, Saline\, United States
GEO:42.17779;-83.775429
X-APPLE-STRUCTURED-LOCATION;VALUE=URI;X-ADDRESS=555 N. Maple Rd\, Saline\, 
 Michigan\, 48176\, Saline\, United States;X-APPLE-RADIUS=100;X-TITLE=Salin
 e District Library:geo:42.17779,-83.775429
END:VEVENT
BEGIN:VTIMEZONE
TZID:America/Detroit
X-LIC-LOCATION:America/Detroit
BEGIN:DAYLIGHT
DTSTART:20260308T030000
TZOFFSETFROM:-0500
TZOFFSETTO:-0400
TZNAME:EDT
END:DAYLIGHT
END:VTIMEZONE
END:VCALENDAR