BEGIN:VCALENDAR
VERSION:2.0
PRODID:-//wp-events-plugin.com//7.2.3.1//EN
TZID:America/Detroit
X-WR-TIMEZONE:America/Detroit
BEGIN:VEVENT
UID:93259@annarborwithkids.com
DTSTART;TZID=America/Detroit:20260715T190000
DTEND;TZID=America/Detroit:20260715T203000
DTSTAMP:20260323T204614Z
URL:https://annarborwithkids.com/events/racial-justice-reading-group-washt
 enaw-faces-race-2026-04-15-2026-05-20-2026-06-17-2026-07-15/
SUMMARY:Racial Justice Reading Group (Washtenaw Faces Race)
DESCRIPTION:\nJoin Washtenaw Faces Race to discuss nonfiction books\, artic
 les\, and reports exploring racism\, privilege\, discrimination\, social j
 ustice\, and our democracy. This group is a safe place to discuss large-sc
 ale issues and how they may affect you personally.\n\n\n\nParticipants may
  attend online through Zoom or in-person at YDL-Michigan. Registration is 
 required. For further information\, contact Joy Cichewicz at&nbsp\;worksof
 joy@gmail.com&nbsp\;or ask library staff.\n\n\n\nLearn more about Washtena
 w Faces Race at&nbsp\;https://washtenawfacesrace.weebly.com/\n\n\n\n\n\n\n
 \nFor teens &amp\; adults.\n
CATEGORIES:Advance Registration,BIPOC,Book Club/Reading Event,Free,High
 Schoolers,Indoor Activities,Parents,Registration Required
LOCATION:Ypsilanti District Library - Michigan Ave Branch\, 229 West Michig
 an Avenue\, Ypsilanti\, Michigan\, 48197\, Ypsilanti\, United States
GEO:42.240746;-83.61565
X-APPLE-STRUCTURED-LOCATION;VALUE=URI;X-ADDRESS=229 West Michigan Avenue\, 
 Ypsilanti\, Michigan\, 48197\, Ypsilanti\, United States;X-APPLE-RADIUS=10
 0;X-TITLE=Ypsilanti District Library - Michigan Ave Branch:geo:42.240746,-
 83.61565
END:VEVENT
BEGIN:VTIMEZONE
TZID:America/Detroit
X-LIC-LOCATION:America/Detroit
BEGIN:DAYLIGHT
DTSTART:20260308T030000
TZOFFSETFROM:-0500
TZOFFSETTO:-0400
TZNAME:EDT
END:DAYLIGHT
END:VTIMEZONE
END:VCALENDAR