BEGIN:VCALENDAR
VERSION:2.0
PRODID:-//wp-events-plugin.com//7.2.3.1//EN
TZID:America/Detroit
X-WR-TIMEZONE:America/Detroit
BEGIN:VEVENT
UID:76816@annarborwithkids.com
DTSTART;TZID=America/Detroit:20260426T130000
DTEND;TZID=America/Detroit:20260426T150000
DTSTAMP:20260323T185535Z
URL:https://annarborwithkids.com/events/puzzling-puzzles-help-us-find-our-
 missing-pieces/
SUMMARY:Puzzling Puzzles: Help Find The Missing Pieces!
DESCRIPTION:\nHelp AADL identify the missing pieces in their circulating pu
 zzles! \n\n\n\nDrop in to help put together puzzles from the collection an
 d hopefully reunite missing pieces with their proper puzzle.\n\n\n\nFor te
 ens &amp\; adults. Held in 4th Floor Program Room\n\n\n
CATEGORIES:Arbor Annie's Highlights,Free,Games,High Schoolers,Indoor
 Activities,Middle Schoolers,Parents
LOCATION:Downtown Branch of AADL\, 343 South Fifth Avenue\, Ann Arbor\, Mic
 higan\, 48104\, Downtown\, United States
GEO:42.278198;-83.745971
X-APPLE-STRUCTURED-LOCATION;VALUE=URI;X-ADDRESS=343 South Fifth Avenue\, An
 n Arbor\, Michigan\, 48104\, Downtown\, United States;X-APPLE-RADIUS=100;X
 -TITLE=Downtown Branch of AADL:geo:42.278198,-83.745971
END:VEVENT
BEGIN:VTIMEZONE
TZID:America/Detroit
X-LIC-LOCATION:America/Detroit
BEGIN:DAYLIGHT
DTSTART:20260308T030000
TZOFFSETFROM:-0500
TZOFFSETTO:-0400
TZNAME:EDT
END:DAYLIGHT
END:VTIMEZONE
END:VCALENDAR