BEGIN:VCALENDAR
VERSION:2.0
PRODID:-//wp-events-plugin.com//7.2.3.1//EN
TZID:America/Detroit
X-WR-TIMEZONE:America/Detroit
BEGIN:VEVENT
UID:77278@annarborwithkids.com
DTSTART;TZID=America/Detroit:20260510T130000
DTEND;TZID=America/Detroit:20260510T150000
DTSTAMP:20260424T182927Z
URL:https://annarborwithkids.com/events/puzzle-and-board-game-swap/
SUMMARY:Puzzle and Board Game Swap
DESCRIPTION:\nDo you enjoy playing board games or putting together a puzzle
  but have too many on your shelf? Interested in finding a new game for you
 r next game night\, or a puzzle for a rainy day? Join AADL for a Puzzle an
 d Board Game Swap!\n\n\n\nItems will be accepted at all locations until Ma
 y 3rd. Please bring items that contain all of their parts. You do not need
  to drop off items in order to pick something up.\n\n\n\nFor all ages. Hel
 d in Lower Level Program Room.\n\n\n\n\n
CATEGORIES:Arbor Annie's Highlights,Earth Day,Elementary,Free,Games,High
 Schoolers,Indoor Activities,Middle Schoolers,Parents,Shopping
LOCATION:Downtown Branch of AADL\, 343 South Fifth Avenue\, Ann Arbor\, Mic
 higan\, 48104\, Downtown\, United States
GEO:42.278198;-83.745971
X-APPLE-STRUCTURED-LOCATION;VALUE=URI;X-ADDRESS=343 South Fifth Avenue\, An
 n Arbor\, Michigan\, 48104\, Downtown\, United States;X-APPLE-RADIUS=100;X
 -TITLE=Downtown Branch of AADL:geo:42.278198,-83.745971
END:VEVENT
BEGIN:VTIMEZONE
TZID:America/Detroit
X-LIC-LOCATION:America/Detroit
BEGIN:DAYLIGHT
DTSTART:20260308T030000
TZOFFSETFROM:-0500
TZOFFSETTO:-0400
TZNAME:EDT
END:DAYLIGHT
END:VTIMEZONE
END:VCALENDAR