BEGIN:VCALENDAR
VERSION:2.0
PRODID:-//wp-events-plugin.com//7.2.3.1//EN
TZID:America/Detroit
X-WR-TIMEZONE:America/Detroit
BEGIN:VEVENT
UID:84624@annarborwithkids.com
DTSTART;TZID=America/Detroit:20260312T180000
DTEND;TZID=America/Detroit:20260312T193000
DTSTAMP:20260219T154954Z
URL:https://annarborwithkids.com/events/punk-embroidery-lines-lyrics/
SUMMARY:Punk Embroidery: Tote Bags
DESCRIPTION:\nLearn three simple stitches and use them to embroider a desig
 n of your creation onto a fabric patch. Then learn how to attach your patc
 h to the provided tote bag.\n\n\n\n Perfection is not necessary for this f
 ree-form embroidery project.\n\n\n\n\n\nFor teens &amp\; adults\n\n\n
CATEGORIES:Arbor Annie's Highlights,Crafts,Fiber Arts,Free,High
 Schoolers,Indoor Activities,Middle Schoolers,Parents,Pop Culture
LOCATION:Malletts Creek Branch Library\, 3090 E Eisenhower Parkway\, Ann Ar
 bor\, Michigan\, 48108\, South\, United States
GEO:42.2436533;-83.71799220000003
X-APPLE-STRUCTURED-LOCATION;VALUE=URI;X-ADDRESS=3090 E Eisenhower Parkway\,
  Ann Arbor\, Michigan\, 48108\, South\, United States;X-APPLE-RADIUS=100;X
 -TITLE=Malletts Creek Branch Library:geo:42.2436533,-83.71799220000003
END:VEVENT
BEGIN:VTIMEZONE
TZID:America/Detroit
X-LIC-LOCATION:America/Detroit
BEGIN:DAYLIGHT
DTSTART:20260308T030000
TZOFFSETFROM:-0500
TZOFFSETTO:-0400
TZNAME:EDT
END:DAYLIGHT
END:VTIMEZONE
END:VCALENDAR