BEGIN:VCALENDAR
VERSION:2.0
PRODID:-//wp-events-plugin.com//7.2.3.1//EN
TZID:America/Detroit
X-WR-TIMEZONE:America/Detroit
BEGIN:VEVENT
UID:34009@annarborwithkids.com
DTSTART;TZID=America/Detroit:20251017T173000
DTEND;TZID=America/Detroit:20251017T193000
DTSTAMP:20251006T192314Z
URL:https://annarborwithkids.com/events/pumpkins-lanterns-leaves/
SUMMARY:Pumpkins\, Lanterns & Leaves
DESCRIPTION:\nJoin Matthaei Botanical Gardens for their annual fall celebra
 tion\, perfect for children aged 4-10! This magical event at Gaffield Chil
 dren's Garden will feature a variety of festive activities including:\n\n\
 n\n\nA whimsical jack o' lantern trail \n\n\n\nLuminary making\n\n\n\nShad
 ow puppet shows\n\n\n\nLight jugglers and hoopers\n\n\n\nDelicious cider a
 nd donuts\n\n\n\nAnd much more!\n\n\n\n\n\n\nThere will be 2 sessions - Fr
 iday night and Saturday night.\n\n\n\nTickets are required and may sell ou
 t.\n\n\n\n\n\n\n
CATEGORIES:Advance Registration,Animals,Arbor Annie's
 Highlights,Elementary,Fall Fun,Halloween,Middle
 Schoolers,Parents,Preschoolers,Toddler
LOCATION:Matthaei Botanical Gardens\, 1800 N. Dixboro Rd\, Ann Arbor\, Mich
 igan\, 48105\, Northeast\, United States
GEO:42.2997476;-83.66274469999996
X-APPLE-STRUCTURED-LOCATION;VALUE=URI;X-ADDRESS=1800 N. Dixboro Rd\, Ann Ar
 bor\, Michigan\, 48105\, Northeast\, United States;X-APPLE-RADIUS=100;X-TI
 TLE=Matthaei Botanical Gardens:geo:42.2997476,-83.66274469999996
END:VEVENT
BEGIN:VTIMEZONE
TZID:America/Detroit
X-LIC-LOCATION:America/Detroit
BEGIN:DAYLIGHT
DTSTART:20250309T030000
TZOFFSETFROM:-0500
TZOFFSETTO:-0400
TZNAME:EDT
END:DAYLIGHT
END:VTIMEZONE
END:VCALENDAR