BEGIN:VCALENDAR
VERSION:2.0
PRODID:-//wp-events-plugin.com//7.2.3.1//EN
TZID:America/Detroit
X-WR-TIMEZONE:America/Detroit
BEGIN:VEVENT
UID:75469@annarborwithkids.com
DTSTART;TZID=America/Detroit:20251101T103000
DTEND;TZID=America/Detroit:20251101T120000
DTSTAMP:20251024T021028Z
URL:https://annarborwithkids.com/events/pumpkins-for-pigs/
SUMMARY:Pumpkins for Pigs - CANCELED
DESCRIPTION:\nAfter Halloween Blueville Acres is holding a Pumpkins for Pig
 s event to help them feed their pigs over winter.\n\n\n\nBring your unpain
 ted pumpkins and gourds for the pigs to eat. You will have the chance to t
 hrow a pumpkin or 2 to the animals and watch them enjoy the treat.\n\n\n\n
 If you can't make this event\, they accept drop-off donations at other tim
 es.\n\n\n\n\n
CATEGORIES:Animals,Elementary,Free,Halloween,High Schoolers,Middle
 Schoolers,Outdoor,Parents,Preschoolers,Toddler
LOCATION:Blueville Acres\, 38093 Judd Rd\, Belleville\, Michigan\, 48111\, 
 United States
GEO:42.150947;-83.408877
X-APPLE-STRUCTURED-LOCATION;VALUE=URI;X-ADDRESS=38093 Judd Rd\, Belleville\
 , Michigan\, 48111\, United States;X-APPLE-RADIUS=100;X-TITLE=Blueville Ac
 res:geo:42.150947,-83.408877
END:VEVENT
BEGIN:VTIMEZONE
TZID:America/Detroit
X-LIC-LOCATION:America/Detroit
BEGIN:DAYLIGHT
DTSTART:20250309T030000
TZOFFSETFROM:-0500
TZOFFSETTO:-0400
TZNAME:EDT
END:DAYLIGHT
END:VTIMEZONE
END:VCALENDAR