BEGIN:VCALENDAR
VERSION:2.0
PRODID:-//wp-events-plugin.com//7.2.3.1//EN
TZID:America/Detroit
X-WR-TIMEZONE:America/Detroit
BEGIN:VEVENT
UID:79647@annarborwithkids.com
DTSTART;TZID=America/Detroit:20251010T180000
DTEND;TZID=America/Detroit:20251010T200000
DTSTAMP:20250918T205239Z
URL:https://annarborwithkids.com/events/pumpkin-plunge-2/
SUMMARY:Pumpkin Plunge
DESCRIPTION:\nJoin Saline Rec for open swim in both the lap and leisure poo
 ls! The diving board will be open and there will be plenty of floating pum
 pkins to play with. Enjoy some cider\, donuts and other treats as well as 
 pumpkin decorating and other crafts in the cabana!\n\n\n\nGuests are welco
 me to take a pumpkin home at the end of the evening.\n\n\n\nChildren who a
 re unable to swim independently must be accompanied by an adult in the wat
 er.\n\n\n\n\n\n\n\n\n
CATEGORIES:Advance Registration,Arbor Annie's
 Highlights,Elementary,Halloween,Indoor Activities,Middle
 Schoolers,Preschoolers,Registration Required,Swimming,Toddler
LOCATION:Saline Rec Center\, 1866 Woodland Dr\, Saline\, MI\, 48176\, Salin
 e\, United States
GEO:42.195868;-83.76643200000001
X-APPLE-STRUCTURED-LOCATION;VALUE=URI;X-ADDRESS=1866 Woodland Dr\, Saline\,
  MI\, 48176\, Saline\, United States;X-APPLE-RADIUS=100;X-TITLE=Saline Rec
  Center:geo:42.195868,-83.76643200000001
END:VEVENT
BEGIN:VTIMEZONE
TZID:America/Detroit
X-LIC-LOCATION:America/Detroit
BEGIN:DAYLIGHT
DTSTART:20250309T030000
TZOFFSETFROM:-0500
TZOFFSETTO:-0400
TZNAME:EDT
END:DAYLIGHT
END:VTIMEZONE
END:VCALENDAR