BEGIN:VCALENDAR
VERSION:2.0
PRODID:-//wp-events-plugin.com//7.2.3.1//EN
TZID:America/Detroit
X-WR-TIMEZONE:America/Detroit
BEGIN:VEVENT
UID:89340@annarborwithkids.com
DTSTART;TZID=America/Detroit:20251019T140000
DTEND;TZID=America/Detroit:20251019T160000
DTSTAMP:20250915T213302Z
URL:https://annarborwithkids.com/events/pumpkin-palooza/
SUMMARY:Pumpkin Palooza
DESCRIPTION:\nDid you know that pumpkins have ribs? Join Huron-Clinton Metr
 oparks for an afternoon and learn all about the (gooey) ins and outs of pu
 mpkins before carving (or painting) them for Halloween! One pumpkin per pe
 rson.\n\n\n\nWhat to expect:This program is entirely indoors. The time\, a
 pproximately 120 minutes\, will be spent seated inside the Lake Erie Marsh
 lands Museum classroom.\n\n\n\nPre-registration is required by 4p the day 
 before the program.\n\n\n\n\n\n\n
CATEGORIES:Advance Registration,Arbor Annie's Highlights,Elementary,Fall
 Fun,Halloween,High Schoolers,Indoor Activities,Middle
 Schoolers,Parents,Preschoolers,Registration Required
LOCATION:Lake Erie Metropark\, 32481 West Jefferson Avenue\, Brownstown\, M
 ichigan\, 48173\, United States
GEO:42.070504;-83.210829
X-APPLE-STRUCTURED-LOCATION;VALUE=URI;X-ADDRESS=32481 West Jefferson Avenue
 \, Brownstown\, Michigan\, 48173\, United States;X-APPLE-RADIUS=100;X-TITL
 E=Lake Erie Metropark:geo:42.070504,-83.210829
END:VEVENT
BEGIN:VTIMEZONE
TZID:America/Detroit
X-LIC-LOCATION:America/Detroit
BEGIN:DAYLIGHT
DTSTART:20250309T030000
TZOFFSETFROM:-0500
TZOFFSETTO:-0400
TZNAME:EDT
END:DAYLIGHT
END:VTIMEZONE
END:VCALENDAR