BEGIN:VCALENDAR
VERSION:2.0
PRODID:-//wp-events-plugin.com//7.2.3.1//EN
TZID:America/Detroit
X-WR-TIMEZONE:America/Detroit
BEGIN:VEVENT
UID:82501@annarborwithkids.com
DTSTART;TZID=America/Detroit:20241026T100000
DTEND;TZID=America/Detroit:20241026T120000
DTSTAMP:20241015T160333Z
URL:https://annarborwithkids.com/events/pumpkin-painting-party/
SUMMARY:Pumpkin Painting Party
DESCRIPTION:\nJoin Upkeep Games for a pumpkin extravaganza! There will be p
 umpkins to paint\, donuts to eat\, and cider to drink. What a fun way to c
 elebrate this spooky season.\n\n\n\nOne ticket needed per pumpkin. Additio
 nal adults or infants don't need tickets if they don't plan to paint!\n\n\
 n\n\n\n\n
CATEGORIES:Advance Registration,Arbor Annie's
 Highlights,Crafts,Elementary,Halloween,Indoor Activities,Middle
 Schoolers,Parents,Preschoolers,Toddler
LOCATION:Upkeep Games\, 2121 W Stadium Blvd\, Ann Arbor\, Michigan\, 48103\
 , West Ann Arbor\, United States
X-APPLE-STRUCTURED-LOCATION;VALUE=URI;X-ADDRESS=2121 W Stadium Blvd\, Ann A
 rbor\, Michigan\, 48103\, West Ann Arbor\, United States;X-APPLE-RADIUS=10
 0;X-TITLE=Upkeep Games:geo:0,0
END:VEVENT
BEGIN:VTIMEZONE
TZID:America/Detroit
X-LIC-LOCATION:America/Detroit
BEGIN:DAYLIGHT
DTSTART:20240310T030000
TZOFFSETFROM:-0500
TZOFFSETTO:-0400
TZNAME:EDT
END:DAYLIGHT
END:VTIMEZONE
END:VCALENDAR