BEGIN:VCALENDAR
VERSION:2.0
PRODID:-//wp-events-plugin.com//7.2.3.1//EN
TZID:America/Detroit
X-WR-TIMEZONE:America/Detroit
BEGIN:VEVENT
UID:89875@annarborwithkids.com
DTSTART;TZID=America/Detroit:20250928T120000
DTEND;TZID=America/Detroit:20250928T150000
DTSTAMP:20250925T201459Z
URL:https://annarborwithkids.com/events/pumpkin-painting-party-2/
SUMMARY:Pumpkin Painting Party
DESCRIPTION:\nHyperion Coffee Company is holding a Pumpkin Painting Party. 
 \n\n\n\n$5 admission includes 1 cider\, 1 donut\, 1 pumpkin\, and painting
  supplies.\n\n\n\n\n\n\n
CATEGORIES:Crafts,Elementary,Food,Halloween,High Schoolers,Middle
 Schoolers,Parents,Preschoolers
LOCATION:Hyperion Coffee\, 306 N River St\, Suite D\, Ypsilanti\, Michigan\
 , 48197\, United States
GEO:42.244752;-83.608359
X-APPLE-STRUCTURED-LOCATION;VALUE=URI;X-ADDRESS=306 N River St\, Suite D\, 
 Ypsilanti\, Michigan\, 48197\, United States;X-APPLE-RADIUS=100;X-TITLE=Hy
 perion Coffee:geo:42.244752,-83.608359
END:VEVENT
BEGIN:VTIMEZONE
TZID:America/Detroit
X-LIC-LOCATION:America/Detroit
BEGIN:DAYLIGHT
DTSTART:20250309T030000
TZOFFSETFROM:-0500
TZOFFSETTO:-0400
TZNAME:EDT
END:DAYLIGHT
END:VTIMEZONE
END:VCALENDAR