BEGIN:VCALENDAR
VERSION:2.0
PRODID:-//wp-events-plugin.com//7.2.3.1//EN
TZID:America/Detroit
X-WR-TIMEZONE:America/Detroit
BEGIN:VEVENT
UID:60387@annarborwithkids.com
DTSTART;TZID=America/Detroit:20251025T110000
DTEND;TZID=America/Detroit:20251025T140000
DTSTAMP:20251023T212110Z
URL:https://annarborwithkids.com/events/pumpkin-carving-crafts/
SUMMARY:Pumpkin Carving & Crafts
DESCRIPTION:\nJoin Superior Township for Pumpkin Carving and other fall cra
 fts.\n\n\n\n Pumpkins\, Crafts\, &amp\; Snacks Provided. All kids get to p
 ick a free pumpkin from the patch to carve and decorate (while supplies la
 st). \n\n\n\nThen enjoy fun crafts\, a leaf scavenger hunt with prizes\, a
 nd tasty cookies and cider.\n\n\n\nCostumes are encouraged.\n\n\n\n\n\n\n\
 n\n\n\n
CATEGORIES:Arbor Annie's Highlights,Crafts,Elementary,Free,Halloween,High
 Schoolers,Middle Schoolers,Outdoor,Parents,Preschoolers,Toddler
LOCATION:Norfolk Park\, Norfolk Ave\, Ypsilanti\, Micihgan\, 48198\, Superi
 or\, United States
X-APPLE-STRUCTURED-LOCATION;VALUE=URI;X-ADDRESS=Norfolk Ave\, Ypsilanti\, M
 icihgan\, 48198\, Superior\, United States;X-APPLE-RADIUS=100;X-TITLE=Norf
 olk Park:geo:0,0
END:VEVENT
BEGIN:VTIMEZONE
TZID:America/Detroit
X-LIC-LOCATION:America/Detroit
BEGIN:DAYLIGHT
DTSTART:20250309T030000
TZOFFSETFROM:-0500
TZOFFSETTO:-0400
TZNAME:EDT
END:DAYLIGHT
END:VTIMEZONE
END:VCALENDAR