BEGIN:VCALENDAR
VERSION:2.0
PRODID:-//wp-events-plugin.com//7.2.3.1//EN
TZID:America/Detroit
X-WR-TIMEZONE:America/Detroit
BEGIN:VEVENT
UID:89996@annarborwithkids.com
DTSTART;TZID=America/Detroit:20251011T160000
DTEND;TZID=America/Detroit:20251011T200000
DTSTAMP:20251009T150758Z
URL:https://annarborwithkids.com/events/public-preview/
SUMMARY:Public Preview
DESCRIPTION:\nOtto's Arcade is having a Public Preview on October 11! \n\n\
 n\nFree Admission\, Classic Video Games\, Snacks\, Crinks &amp\; Swag avai
 lable for purchase.\n\n\n\n\n
CATEGORIES:Arbor Annie's Highlights,Elementary,Games,High Schoolers,Indoor
 Activities,Middle Schoolers,Parents,Video Games
LOCATION:Otto's Arcade\, 7641 N. Ann Arbor St\, Saline\, Michigan\, 48176\,
  United States
GEO:42.175043;-83.785009
X-APPLE-STRUCTURED-LOCATION;VALUE=URI;X-ADDRESS=7641 N. Ann Arbor St\, Sali
 ne\, Michigan\, 48176\, United States;X-APPLE-RADIUS=100;X-TITLE=Otto's Ar
 cade:geo:42.175043,-83.785009
END:VEVENT
BEGIN:VTIMEZONE
TZID:America/Detroit
X-LIC-LOCATION:America/Detroit
BEGIN:DAYLIGHT
DTSTART:20250309T030000
TZOFFSETFROM:-0500
TZOFFSETTO:-0400
TZNAME:EDT
END:DAYLIGHT
END:VTIMEZONE
END:VCALENDAR