BEGIN:VCALENDAR
VERSION:2.0
PRODID:-//wp-events-plugin.com//7.2.3.1//EN
TZID:America/Detroit
X-WR-TIMEZONE:America/Detroit
BEGIN:VEVENT
UID:21674@annarborwithkids.com
DTSTART;TZID=America/Detroit:20251014T100000
DTEND;TZID=America/Detroit:20251014T110000
DTSTAMP:20250905T202406Z
URL:https://annarborwithkids.com/events/preschool-pumpkin-hunt-3/
SUMMARY:Preschool Pumpkin Hunt
DESCRIPTION:\nThe Saline Rec Center is continuing their annual Preschool Pu
 mpkin Hunt this year. \n\n\n\nHunt for mini-pumpkins outside at Miller Fie
 ld behind the Rec Center.  Then\, they can decorate their pumpkin. There w
 ill be a story told by a storyteller from the Saline Library. There will a
 lso be a snack.\n\n\n\n\n\nThe event is for kids ages 2-6. Babies under 1 
 are free but will not get a pumpkin.\n\n\n\nRegistration is required and i
 s $15/child.\n\n\n\n\n\n\n\n\n\n\n\n\n\n\n\n[wpv-view name="linked-playgro
 und"]\n
CATEGORIES:Advance Registration,Arbor Annie's Highlights,Fall
 Fun,Halloween,Outdoor,Preschoolers,Registration Required,Toddler
LOCATION:Tefft Park\, 1866 Woodland Dr\, Saline\, MI\, 48176\, Saline\, Uni
 ted States
GEO:42.195868;-83.766432
X-APPLE-STRUCTURED-LOCATION;VALUE=URI;X-ADDRESS=1866 Woodland Dr\, Saline\,
  MI\, 48176\, Saline\, United States;X-APPLE-RADIUS=100;X-TITLE=Tefft Park
 :geo:42.195868,-83.766432
END:VEVENT
BEGIN:VTIMEZONE
TZID:America/Detroit
X-LIC-LOCATION:America/Detroit
BEGIN:DAYLIGHT
DTSTART:20250309T030000
TZOFFSETFROM:-0500
TZOFFSETTO:-0400
TZNAME:EDT
END:DAYLIGHT
END:VTIMEZONE
END:VCALENDAR