BEGIN:VCALENDAR
VERSION:2.0
PRODID:-//wp-events-plugin.com//7.2.3.1//EN
TZID:America/Detroit
X-WR-TIMEZONE:America/Detroit
BEGIN:VEVENT
UID:93467@annarborwithkids.com
DTSTART;TZID=America/Detroit:20260731T100000
DTEND;TZID=America/Detroit:20260731T110000
DTSTAMP:20260401T214346Z
URL:https://annarborwithkids.com/events/preschool-explorers-at-the-mills-2
 026-06-26-2026-07-31/
SUMMARY:Preschool Explorers at the Mills
DESCRIPTION:\nJoin Hudson Mills MetroPark on the last Friday of each month 
 from June through October for a fun\, hands-on nature adventure designed f
 or preschoolers and their grown-ups! Each session introduces a new nature 
 theme through engaging stories\, outdoor exploration\, and creative activi
 ties or crafts. Come ready to explore the outdoors while building early ch
 ildhood learning and readiness skills. Choose to attend any or all the pro
 grams.\n\n\n\nMonthly Themes:\n\n\n\n\nJune 26 - Incredible Insects\n\n\n\
 nJuly 31 - Huron River Exploration\n\n\n\nAugust 28 - All About Sun\n\n\n\
 nSeptember 25 - Amazing Adaptations\n\n\n\nOctober 30 - Fall Colors &amp\;
  Leaves\n\n\n\n\nWhat to Expect:Programs will be held indoors and outside\
 , weather permitting. The planned path surface is dirt\, gravel\, grass\, 
 or slightly hilly off trail into the woods.\n\n\n\nAges: Children 3 – 6.
  Children must be accompanied by a registered adult. The event is $5/child
 \, adults are free.\n\n\n\n\n\n\n\n\n
CATEGORIES:Advance Registration,Animals,Indoor
 Activities,Nature,Outdoor,Preschoolers,Registration
 Required,STEM,Storytime
LOCATION:Hudson Mills Metropark\, 8801 N. Territorial Rd\, Dexter\, Michiga
 n\, 48130\, Dexter\, United States
GEO:42.3866538;-83.9086605
X-APPLE-STRUCTURED-LOCATION;VALUE=URI;X-ADDRESS=8801 N. Territorial Rd\, De
 xter\, Michigan\, 48130\, Dexter\, United States;X-APPLE-RADIUS=100;X-TITL
 E=Hudson Mills Metropark:geo:42.3866538,-83.9086605
END:VEVENT
BEGIN:VTIMEZONE
TZID:America/Detroit
X-LIC-LOCATION:America/Detroit
BEGIN:DAYLIGHT
DTSTART:20260308T030000
TZOFFSETFROM:-0500
TZOFFSETTO:-0400
TZNAME:EDT
END:DAYLIGHT
END:VTIMEZONE
END:VCALENDAR