BEGIN:VCALENDAR
VERSION:2.0
PRODID:-//wp-events-plugin.com//7.2.3.1//EN
TZID:America/Detroit
X-WR-TIMEZONE:America/Detroit
BEGIN:VEVENT
UID:68100@annarborwithkids.com
DTSTART;TZID=America/Detroit:20260416T103000
DTEND;TZID=America/Detroit:20260416T110000
DTSTAMP:20260323T174039Z
URL:https://annarborwithkids.com/events/preschool-art-start-4/
SUMMARY:Preschool Art Start
DESCRIPTION:\nPreschoolers can make art\, too! Join AADL for fun crafts for
  children age 2 to 5 years\, accompanied by an adult.\n\n\n\nThey have 3 A
 rt Start sessions each month. The same activity will be featured at all of
  the events that month.\n\n\n\n\n\nUpcoming Preschool ArtStart Events:\n\n
 \n\n[events_list tag="Preschool ArtStart"][/events_list]\n\n\n\n\n
CATEGORIES:Arbor Annie's Highlights,Art,Crafts,Free,Indoor
 Activities,Preschoolers,Toddler
LOCATION:Malletts Creek Branch Library\, 3090 E Eisenhower Parkway\, Ann Ar
 bor\, Michigan\, 48108\, South\, United States
GEO:42.2436533;-83.71799220000003
X-APPLE-STRUCTURED-LOCATION;VALUE=URI;X-ADDRESS=3090 E Eisenhower Parkway\,
  Ann Arbor\, Michigan\, 48108\, South\, United States;X-APPLE-RADIUS=100;X
 -TITLE=Malletts Creek Branch Library:geo:42.2436533,-83.71799220000003
END:VEVENT
BEGIN:VTIMEZONE
TZID:America/Detroit
X-LIC-LOCATION:America/Detroit
BEGIN:DAYLIGHT
DTSTART:20260308T030000
TZOFFSETFROM:-0500
TZOFFSETTO:-0400
TZNAME:EDT
END:DAYLIGHT
END:VTIMEZONE
END:VCALENDAR