BEGIN:VCALENDAR
VERSION:2.0
PRODID:-//wp-events-plugin.com//7.2.3.1//EN
TZID:America/Detroit
X-WR-TIMEZONE:America/Detroit
BEGIN:VEVENT
UID:93003@annarborwithkids.com
DTSTART;TZID=America/Detroit:20260425T140000
DTEND;TZID=America/Detroit:20260425T150000
DTSTAMP:20260311T170918Z
URL:https://annarborwithkids.com/events/poetry-exploration-workshop/
SUMMARY:Poetry Exploration Workshop
DESCRIPTION:\nApril is Poetry Month! Explore and celebrate poetry with Karr
 ie Waarala\, SDL Library Director. No poetry experience needed.\n\n\n\nAge
 s 8-12.\n\n\n\nRegistration is required.\n
CATEGORIES:Advance Registration,Arbor Annie's Highlights,Book Club/Reading
 Event,Elementary,Free,Indoor Activities,Registration Required,Writing
LOCATION:Saline District Library\, 555 N. Maple Rd\, Saline\, Michigan\, 48
 176\, Saline\, United States
GEO:42.17779;-83.775429
X-APPLE-STRUCTURED-LOCATION;VALUE=URI;X-ADDRESS=555 N. Maple Rd\, Saline\, 
 Michigan\, 48176\, Saline\, United States;X-APPLE-RADIUS=100;X-TITLE=Salin
 e District Library:geo:42.17779,-83.775429
END:VEVENT
BEGIN:VTIMEZONE
TZID:America/Detroit
X-LIC-LOCATION:America/Detroit
BEGIN:DAYLIGHT
DTSTART:20260308T030000
TZOFFSETFROM:-0500
TZOFFSETTO:-0400
TZNAME:EDT
END:DAYLIGHT
END:VTIMEZONE
END:VCALENDAR