BEGIN:VCALENDAR
VERSION:2.0
PRODID:-//wp-events-plugin.com//7.2.3.1//EN
TZID:America/Detroit
X-WR-TIMEZONE:America/Detroit
BEGIN:VEVENT
UID:21681@annarborwithkids.com
DTSTART;TZID=America/Detroit:20251204T170000
DTEND;TZID=America/Detroit:20251204T180000
DTSTAMP:20251124T221716Z
URL:https://annarborwithkids.com/events/pjs-stories-santa-4/
SUMMARY:PJs & Stories with Santa
DESCRIPTION:\nSanta is inviting all good little boys and girls for a very s
 pecial evening of holiday fun at the Saline Rec Center. \n\n\n\nWear your 
 favorite pajamas and get cozy as one of the Saline District Library's stor
 ytellers reads some of Santa's favorite holiday stories. Sing songs\, make
  some crafts\, and enjoy milk\, cookies and hot chocolate. \n\n\n\nBring y
 our wish list for your chance to visit with the "Jolly ol ' Elf" himself.\
 n\n\n\nMust preregister. No walk ins. Under 1 free with a paying sibling.\
 n\n\n\nDue to popularity\, there are 4 sessions:\n\n\n\n[events_list tag="
 PJs and Stories with Santa" scope="2024-12-01\,2024-12-25" location="28"][
 /events_list]\n\n\n\nSanta is Santa Joe - The Merry Town Santa Claus forme
 rly known as the Kerrytown Santa.\n\n\n\n\n\n\n\n\n\n\n\n\n\n\n
CATEGORIES:Advance Registration,Arbor Annie's
 Highlights,Babies,Christmas,Crafts,Dine with
 Santa,Elementary,Holidays,Indoor
 Activities,Preschoolers,Santa,Storytime,Toddler
LOCATION:Saline Rec Center\, 1866 Woodland Dr\, Saline\, MI\, 48176\, Salin
 e\, United States
GEO:42.195868;-83.76643200000001
X-APPLE-STRUCTURED-LOCATION;VALUE=URI;X-ADDRESS=1866 Woodland Dr\, Saline\,
  MI\, 48176\, Saline\, United States;X-APPLE-RADIUS=100;X-TITLE=Saline Rec
  Center:geo:42.195868,-83.76643200000001
END:VEVENT
BEGIN:VTIMEZONE
TZID:America/Detroit
X-LIC-LOCATION:America/Detroit
BEGIN:STANDARD
DTSTART:20251102T010000
TZOFFSETFROM:-0400
TZOFFSETTO:-0500
TZNAME:EST
END:STANDARD
END:VTIMEZONE
END:VCALENDAR