BEGIN:VCALENDAR
VERSION:2.0
PRODID:-//wp-events-plugin.com//7.2.3.1//EN
TZID:America/Detroit
X-WR-TIMEZONE:America/Detroit
BEGIN:VEVENT
UID:75466@annarborwithkids.com
DTSTART;TZID=America/Detroit:20251025T180000
DTEND;TZID=America/Detroit:20251025T200000
DTSTAMP:20251009T194414Z
URL:https://annarborwithkids.com/events/pinckney-spooktacular/
SUMMARY:Pinckney Spooktacular
DESCRIPTION:\nHead to Pinckney for Free Family Fun at the Pinckney Spooktac
 ular!\n\n\n\nFrom 6-8pm\, on Saturday October 26 the whole town will be ce
 lebrating with:\n\n\n\n\nTrunk or Treat\n\n\n\nEerie Music in the Gazebo\n
 \n\n\nCider &amp\; Donuts\n\n\n\nCarved Pumpkin Display\n\n\n\n\n\n\n\n
CATEGORIES:Arbor Annie's Highlights,Elementary,Food,Free,Halloween,Middle
 Schoolers,Outdoor,Parents,Preschoolers,Toddler,Trick or Treat
LOCATION:Main Street Pinckney\, Main Street\, PInckney\, Michigan\, 48169\,
  Pinckney\, United States
GEO:42.4569689;-83.94032010000001
X-APPLE-STRUCTURED-LOCATION;VALUE=URI;X-ADDRESS=Main Street\, PInckney\, Mi
 chigan\, 48169\, Pinckney\, United States;X-APPLE-RADIUS=100;X-TITLE=Main 
 Street Pinckney:geo:42.4569689,-83.94032010000001
END:VEVENT
BEGIN:VTIMEZONE
TZID:America/Detroit
X-LIC-LOCATION:America/Detroit
BEGIN:DAYLIGHT
DTSTART:20250309T030000
TZOFFSETFROM:-0500
TZOFFSETTO:-0400
TZNAME:EDT
END:DAYLIGHT
END:VTIMEZONE
END:VCALENDAR