BEGIN:VCALENDAR
VERSION:2.0
PRODID:-//wp-events-plugin.com//7.2.3.1//EN
TZID:America/Detroit
X-WR-TIMEZONE:America/Detroit
BEGIN:VEVENT
UID:30679@annarborwithkids.com
DTSTART;TZID=America/Detroit:20250518T120000
DTEND;TZID=America/Detroit:20250518T180000
DTSTAMP:20250501T152755Z
URL:https://annarborwithkids.com/events/picnic-pops-2/
SUMMARY:Picnic Pops
DESCRIPTION:Picnic Pops:  Be part of a long tradition!  Come enjoy this c
 ity-wide ice cream social featuring music from AAPS bands from Huron\, Pio
 neer\, and Skyline High Schools\nand Clague\, Forsythe\, Scarlett\, Slauso
 n\, Tappan\, and Ann Arbor Open
ATTACH;FMTTYPE=image/jpeg:https://annarborwithkids.com/wp-content/uploads/
 2017/04/ann-arbor-Picnic-Pops-tent.jpeg
CATEGORIES:Arbor Annie's Highlights,Elementary,Free,High Schoolers,Middle
 Schoolers,Music/Concerts,Outdoor,Parents,Preschoolers,Toddler
LOCATION:Pioneer High School\, 601 W. Stadium Blvd\, Ann Arbor\, Michigan\,
  48103\, Downtown\, United States
GEO:42.2639996;-83.75463300000001
X-APPLE-STRUCTURED-LOCATION;VALUE=URI;X-ADDRESS=601 W. Stadium Blvd\, Ann A
 rbor\, Michigan\, 48103\, Downtown\, United States;X-APPLE-RADIUS=100;X-TI
 TLE=Pioneer High School:geo:42.2639996,-83.75463300000001
END:VEVENT
BEGIN:VTIMEZONE
TZID:America/Detroit
X-LIC-LOCATION:America/Detroit
BEGIN:DAYLIGHT
DTSTART:20250309T030000
TZOFFSETFROM:-0500
TZOFFSETTO:-0400
TZNAME:EDT
END:DAYLIGHT
END:VTIMEZONE
END:VCALENDAR