BEGIN:VCALENDAR
VERSION:2.0
PRODID:-//wp-events-plugin.com//7.2.3.1//EN
TZID:America/Detroit
X-WR-TIMEZONE:America/Detroit
BEGIN:VEVENT
UID:89339@annarborwithkids.com
DTSTART;TZID=America/Detroit:20251123T120000
DTEND;TZID=America/Detroit:20251123T160000
DTSTAMP:20250915T214046Z
URL:https://annarborwithkids.com/events/pick-your-pumpkin-hayrides-2025-11
 -23/
SUMMARY:Hayrides
DESCRIPTION:\nHead to Kensington Metropark for a hayride. Their wagon rides
  take you on a tour of the woods and fields around the Farm Center\, givin
 g you views of nature and water. Wagons accommodate approximately 15 peopl
 e.  A wheelchair lift is available upon request.\n\n\n\nHayrides run ever
 y weekend on Saturday and Sunday afternoons from Noon to 4 p.m. and last a
 pproximately 20 minutes. Tickets are available on-site only at the Farm Ce
 nter office.\n\n\n\nHayride pricing: $5/adults\, $3/Children (ages 3-12) a
 nd seniors (age 62+)\, Free/Children 2 &amp\; under\n\n\n\n\n
CATEGORIES:Babies,Elementary,Fall Fun,Halloween,High Schoolers,Middle
 Schoolers,Outdoor,Parents,Preschoolers,Toddler
LOCATION:Kensington Metropark Farm Center\, 2240 West Buno Road\, Milford\,
  MI\, 48380\, Milford\, United States
GEO:42.5498816;-83.6394924
X-APPLE-STRUCTURED-LOCATION;VALUE=URI;X-ADDRESS=2240 West Buno Road\, Milfo
 rd\, MI\, 48380\, Milford\, United States;X-APPLE-RADIUS=100;X-TITLE=Kensi
 ngton Metropark Farm Center:geo:42.5498816,-83.6394924
END:VEVENT
BEGIN:VTIMEZONE
TZID:America/Detroit
X-LIC-LOCATION:America/Detroit
BEGIN:STANDARD
DTSTART:20251102T010000
TZOFFSETFROM:-0400
TZOFFSETTO:-0500
TZNAME:EST
END:STANDARD
END:VTIMEZONE
END:VCALENDAR