BEGIN:VCALENDAR
VERSION:2.0
PRODID:-//wp-events-plugin.com//7.2.3.1//EN
TZID:America/Detroit
X-WR-TIMEZONE:America/Detroit
BEGIN:VEVENT
UID:92552@annarborwithkids.com
DTSTART;TZID=America/Detroit:20260314T150000
DTEND;TZID=America/Detroit:20260314T154500
DTSTAMP:20260218T205128Z
URL:https://annarborwithkids.com/events/pi-day-pie-tasting/
SUMMARY:Pi Day Pie Tasting
DESCRIPTION:\nJoin Dexter District Library to celebrate Pi (the number) by 
 eating some pie (dessert)! Sample multiple varieties of pies and help them
  determine which is the best.\n\n\n\nFor tweens &amp\; teens (grades 5-12)
 . Space is limited\, advance registration is required.\n\n\n\n\n
CATEGORIES:Advance Registration,Arbor Annie's Highlights,Food,Free,High
 Schoolers,Indoor Activities,Middle Schoolers,Registration Required
LOCATION:Dexter District Library\, 3255 Alpine St\, Dexter\, Michigan\, 481
 30\, Dexter\, United States
GEO:42.340266;-83.88900000000001
X-APPLE-STRUCTURED-LOCATION;VALUE=URI;X-ADDRESS=3255 Alpine St\, Dexter\, M
 ichigan\, 48130\, Dexter\, United States;X-APPLE-RADIUS=100;X-TITLE=Dexter
  District Library:geo:42.340266,-83.88900000000001
END:VEVENT
BEGIN:VTIMEZONE
TZID:America/Detroit
X-LIC-LOCATION:America/Detroit
BEGIN:DAYLIGHT
DTSTART:20260308T030000
TZOFFSETFROM:-0500
TZOFFSETTO:-0400
TZNAME:EDT
END:DAYLIGHT
END:VTIMEZONE
END:VCALENDAR