BEGIN:VCALENDAR
VERSION:2.0
PRODID:-//wp-events-plugin.com//7.2.3.1//EN
TZID:America/Detroit
X-WR-TIMEZONE:America/Detroit
BEGIN:VEVENT
UID:75678@annarborwithkids.com
DTSTART;TZID=America/Detroit:20231202T193000
DTEND;TZID=America/Detroit:20231202T203000
DTSTAMP:20231121T000721Z
URL:https://annarborwithkids.com/events/photos-with-santa-3/
SUMMARY:Photos with Santa
DESCRIPTION:\nAfter the Saline Holiday Parade\, Santa &amp\; Mrs Claus will
  be at Whitepine Studios for photos (bring your own camera). \n\n\n\nElves
  and Anna from Frozen and more surprise guests will be there as well. \n\n
 \n\nThere will also be goodie bags for the little ones.\n\n\n\nPhotos with
  Santa is part of a full day of activities:\n\n\n\nHead to downtown for: \
 n\n\n\n\nnoon-6p - Cocoa Crawl\n\n\n\n5-6p Tree Lighting\n\n\n\n5:30p - Me
 rry Mile\n\n\n\n6:15p - Holiday Parade\n\n\n\n7:30-8:30p - Photos with San
 ta at White Pine Studios.\n\n\n\n\n\n
CATEGORIES:Arbor Annie's Highlights,Christmas,Elementary,Free,Free
 Photo,Indoor Activities,Preschoolers,Santa,Toddler
LOCATION:Whitepine Studios\, 141 E Michigan Avenue\, Suite B\, Saline\, Mic
 higan\, 48176\, United States
GEO:42.167252;-83.780757
X-APPLE-STRUCTURED-LOCATION;VALUE=URI;X-ADDRESS=141 E Michigan Avenue\, Sui
 te B\, Saline\, Michigan\, 48176\, United States;X-APPLE-RADIUS=100;X-TITL
 E=Whitepine Studios:geo:42.167252,-83.780757
END:VEVENT
BEGIN:VTIMEZONE
TZID:America/Detroit
X-LIC-LOCATION:America/Detroit
BEGIN:STANDARD
DTSTART:20231105T010000
TZOFFSETFROM:-0400
TZOFFSETTO:-0500
TZNAME:EST
END:STANDARD
END:VTIMEZONE
END:VCALENDAR