BEGIN:VCALENDAR
VERSION:2.0
PRODID:-//wp-events-plugin.com//7.2.3.1//EN
TZID:America/Detroit
X-WR-TIMEZONE:America/Detroit
BEGIN:VEVENT
UID:93529@annarborwithkids.com
DTSTART;TZID=America/Detroit:20260418T140000
DTEND;TZID=America/Detroit:20260418T170000
DTSTAMP:20260416T234106Z
URL:https://annarborwithkids.com/events/personal-safety-self-defense-works
 hop/
SUMMARY:Personal Safety &amp\; Self-Defense Workshop
DESCRIPTION:\nThe Neutral Zone is holding a personal safety &amp\; self-def
 ense workshop hosted by Heidi Sproull CLMSW\, CST. The class is tailored t
 o youth - specifically LGBTQIA+ youth and the violence they face.\n\n\n\nD
 rinks &amp\; snacks are provided . Wear comfy clothes &amp\; come ready to
  learn.\n
CATEGORIES:Arbor Annie's Highlights,Free,High Schoolers,LGBTQ+,Public
 Safety
LOCATION:Neutral Zone\, 310 E. Washington St\, Ann Arbor\, Michigan\, 48104
 \, Downtown\, United States
GEO:42.2801422;-83.74561110000002
X-APPLE-STRUCTURED-LOCATION;VALUE=URI;X-ADDRESS=310 E. Washington St\, Ann 
 Arbor\, Michigan\, 48104\, Downtown\, United States;X-APPLE-RADIUS=100;X-T
 ITLE=Neutral Zone:geo:42.2801422,-83.74561110000002
END:VEVENT
BEGIN:VTIMEZONE
TZID:America/Detroit
X-LIC-LOCATION:America/Detroit
BEGIN:DAYLIGHT
DTSTART:20260308T030000
TZOFFSETFROM:-0500
TZOFFSETTO:-0400
TZNAME:EDT
END:DAYLIGHT
END:VTIMEZONE
END:VCALENDAR