BEGIN:VCALENDAR
VERSION:2.0
PRODID:-//wp-events-plugin.com//7.2.3.1//EN
TZID:America/Detroit
X-WR-TIMEZONE:America/Detroit
BEGIN:VEVENT
UID:23292@annarborwithkids.com
DTSTART;TZID=America/Detroit:20260213T173000
DTEND;TZID=America/Detroit:20260213T200000
DTSTAMP:20260122T210518Z
URL:https://annarborwithkids.com/events/peachy-fitness-kids-night-out/
SUMMARY:Valentine's Parents' Night Out
DESCRIPTION:\nPeachy Fitness Kids' Night  Out - Valentine's Edition!\n\n\n\
 nDrop off the kids for a fun-filled evening of dance\, crafts\, games\, mo
 vie time\, pizza &amp\; juice while you enjoy a night out!\n\n\n\nThe even
 t is for ages 4-10.\n\n\n\nRegistration deadline: February 10. There is a 
 minimum enrollment of 5 students required. So make sure to tell your frien
 ds.\n\n\n\n\n\n\n\n\n\n&nbsp\;\n
ATTACH;FMTTYPE=image/jpeg:https://annarborwithkids.com/wp-content/uploads/
 2018/01/peachy-logo.jpg
CATEGORIES:Advance Registration,Arbor Annie's
 Highlights,Classes,Crafts,Dance,Elementary,Fitness,Fitness/Health,Food,Ind
 oor Activities,Parents,Parents Night Out,Preschoolers,Registration
 Required,Valentine's Day,Yoga
LOCATION:Peachy Fitness\, 2385 S. Huron Parkway\, Ann Arbor\, Michigan\, 48
 104\, Ann Arbor\, United States
GEO:42.252792;-83.698441
X-APPLE-STRUCTURED-LOCATION;VALUE=URI;X-ADDRESS=2385 S. Huron Parkway\, Ann
  Arbor\, Michigan\, 48104\, Ann Arbor\, United States;X-APPLE-RADIUS=100;X
 -TITLE=Peachy Fitness:geo:42.252792,-83.698441
END:VEVENT
BEGIN:VTIMEZONE
TZID:America/Detroit
X-LIC-LOCATION:America/Detroit
BEGIN:STANDARD
DTSTART:20251102T010000
TZOFFSETFROM:-0400
TZOFFSETTO:-0500
TZNAME:EST
END:STANDARD
END:VTIMEZONE
END:VCALENDAR