BEGIN:VCALENDAR
VERSION:2.0
PRODID:-//wp-events-plugin.com//7.2.3.1//EN
TZID:America/Detroit
X-WR-TIMEZONE:America/Detroit
BEGIN:VEVENT
UID:36789@annarborwithkids.com
DTSTART;TZID=America/Detroit:20190505T130000
DTEND;TZID=America/Detroit:20190505T160000
DTSTAMP:20200727T015024Z
URL:https://annarborwithkids.com/events/passport-2-pittsfield-open-house-2
 /
SUMMARY:Passport 2 Pittsfield Open House
DESCRIPTION:Join us for our annual Passport 2 Pittsfield (P2P) Open House!\
 n\nP2P is a FREE event for community members of all ages. Hop on an AAATA 
 shuttle and journey through Pittsfield Township\, stopping at various Town
 ship Buildings to collect passport stamps &amp\; goodies\, participate in 
 activities\, and learn about your Township &amp\; how your local governmen
 t has been working to improve the quality of life for all in our community
 . The event is a day for fun\, discovery and creation.\n\nVisitors will re
 ceive a P2P passport\, which they will have stamped as they visit various 
 locations and participate in activities such as a Recycled Box City\, Kids
  Vote 2019\, interactive Farmers Market activity and crafts\, Public Safet
 y equipment displays including police cars &amp\; fire trucks\, Utilities 
 Field Office Touch-A-Truck &amp\; displays\, Parks &amp\; Recreation's Rec
  City\, contests\, and more! Visit www.pittsfield-mi.gov/p2p for more info
 rmation or contact us by phone at 734.822.3135\, or via email at info@pitt
 sfield-mi.gov.
CATEGORIES:Arbor Annie's Highlights,Babies,Elementary,Free,High
 Schoolers,Middle Schoolers,Parents,Preschoolers,Public Safety,Toddler
LOCATION:Pittsfield Charter Township Administration Building\, 6201 W. Mich
 igan Avenue\, Ann Arbor\, Michigan\, 48108\, Washtenaw\, United States
GEO:42.19763529999999;-83.70159590000003
X-APPLE-STRUCTURED-LOCATION;VALUE=URI;X-ADDRESS=6201 W. Michigan Avenue\, A
 nn Arbor\, Michigan\, 48108\, Washtenaw\, United States;X-APPLE-RADIUS=100
 ;X-TITLE=Pittsfield Charter Township Administration Building:geo:42.197635
 29999999,-83.70159590000003
END:VEVENT
BEGIN:VTIMEZONE
TZID:America/Detroit
X-LIC-LOCATION:America/Detroit
BEGIN:DAYLIGHT
DTSTART:20190310T030000
TZOFFSETFROM:-0500
TZOFFSETTO:-0400
TZNAME:EDT
END:DAYLIGHT
END:VTIMEZONE
END:VCALENDAR