BEGIN:VCALENDAR
VERSION:2.0
PRODID:-//wp-events-plugin.com//7.2.3.1//EN
TZID:America/Detroit
X-WR-TIMEZONE:America/Detroit
BEGIN:VEVENT
UID:78667@annarborwithkids.com
DTSTART;TZID=America/Detroit:20260510T120000
DTEND;TZID=America/Detroit:20260510T130000
DTSTAMP:20260424T182722Z
URL:https://annarborwithkids.com/events/paper-weaving-rainbow-fish/
SUMMARY:Paper Weaving Rainbow Fish
DESCRIPTION:\nWeave paper strips together to make colorful fins for your ne
 w paper fish friend.\n\n\n\nFor kids in preschool through grade 3\n\n\n
CATEGORIES:Arbor Annie's Highlights,Crafts,Elementary,Free,Indoor
 Activities,Preschoolers
LOCATION:Pittsfield Branch Library\, 2359 Oak Valley Dr\, Ann Arbor\, Michi
 gan\, 48103\, Pittsfield\, United States
GEO:42.2526001;-83.77801540000002
X-APPLE-STRUCTURED-LOCATION;VALUE=URI;X-ADDRESS=2359 Oak Valley Dr\, Ann Ar
 bor\, Michigan\, 48103\, Pittsfield\, United States;X-APPLE-RADIUS=100;X-T
 ITLE=Pittsfield Branch Library:geo:42.2526001,-83.77801540000002
END:VEVENT
BEGIN:VTIMEZONE
TZID:America/Detroit
X-LIC-LOCATION:America/Detroit
BEGIN:DAYLIGHT
DTSTART:20260308T030000
TZOFFSETFROM:-0500
TZOFFSETTO:-0400
TZNAME:EDT
END:DAYLIGHT
END:VTIMEZONE
END:VCALENDAR