BEGIN:VCALENDAR
VERSION:2.0
PRODID:-//wp-events-plugin.com//7.2.3.1//EN
TZID:America/Detroit
X-WR-TIMEZONE:America/Detroit
BEGIN:VEVENT
UID:84916@annarborwithkids.com
DTSTART;TZID=America/Detroit:20260425T160000
DTEND;TZID=America/Detroit:20260425T170000
DTSTAMP:20260323T184738Z
URL:https://annarborwithkids.com/events/paper-flowers-and-positive-thought
 s/
SUMMARY:Paper Flowers and Positive Thoughts
DESCRIPTION:\nJoin Christina A. Herbin of Harmony Counseling Center to disc
 over how to create simple and beautiful tissue paper flowers in this hands
 -on workshop! Like seeds that grow into vibrant blooms\, your thoughts hav
 e the power to flourish with care and intention. \n\n\n\nExplore the impa
 ct of positive thinking and the steps to help those thoughts thrive. The t
 issue paper flowers you make will serve as a visible reminder of the posit
 ive thoughts you’re nurturing each day—bringing beauty and inspiration
  into your space! \n\n\n\nFor grades K-Adult\n
CATEGORIES:Arbor Annie's Highlights,Crafts,Elementary,Free,Health,High
 Schoolers,Indoor Activities,Middle Schoolers,Parents
LOCATION:Pittsfield Branch Library\, 2359 Oak Valley Dr\, Ann Arbor\, Michi
 gan\, 48103\, Pittsfield\, United States
GEO:42.2526001;-83.77801540000002
X-APPLE-STRUCTURED-LOCATION;VALUE=URI;X-ADDRESS=2359 Oak Valley Dr\, Ann Ar
 bor\, Michigan\, 48103\, Pittsfield\, United States;X-APPLE-RADIUS=100;X-T
 ITLE=Pittsfield Branch Library:geo:42.2526001,-83.77801540000002
END:VEVENT
BEGIN:VTIMEZONE
TZID:America/Detroit
X-LIC-LOCATION:America/Detroit
BEGIN:DAYLIGHT
DTSTART:20260308T030000
TZOFFSETFROM:-0500
TZOFFSETTO:-0400
TZNAME:EDT
END:DAYLIGHT
END:VTIMEZONE
END:VCALENDAR