BEGIN:VCALENDAR
VERSION:2.0
PRODID:-//wp-events-plugin.com//7.2.3.1//EN
TZID:America/Detroit
X-WR-TIMEZONE:America/Detroit
BEGIN:VEVENT
UID:93004@annarborwithkids.com
DTSTART;TZID=America/Detroit:20260428T183000
DTEND;TZID=America/Detroit:20260428T190000
DTSTAMP:20260311T171029Z
URL:https://annarborwithkids.com/events/pajama-storytime-2/
SUMMARY:Pajama Storytime
DESCRIPTION:\nWear your coziest pajamas and bring your stuffie to enjoy a s
 pecial evening storytime. Read stories\, sing songs and rhymes before sett
 ling down for the night.\n\n\n\nAges 2-5. Registration required.\n\n\n\n\n
 \n\n\n\n\n\n\n\n
CATEGORIES:Advance Registration,Arbor Annie's Highlights,Free,Indoor
 Activities,Preschoolers,Registration Required,Storytime,Toddler
LOCATION:Saline District Library\, 555 N. Maple Rd\, Saline\, Michigan\, 48
 176\, Saline\, United States
GEO:42.17779;-83.775429
X-APPLE-STRUCTURED-LOCATION;VALUE=URI;X-ADDRESS=555 N. Maple Rd\, Saline\, 
 Michigan\, 48176\, Saline\, United States;X-APPLE-RADIUS=100;X-TITLE=Salin
 e District Library:geo:42.17779,-83.775429
END:VEVENT
BEGIN:VTIMEZONE
TZID:America/Detroit
X-LIC-LOCATION:America/Detroit
BEGIN:DAYLIGHT
DTSTART:20260308T030000
TZOFFSETFROM:-0500
TZOFFSETTO:-0400
TZNAME:EDT
END:DAYLIGHT
END:VTIMEZONE
END:VCALENDAR