BEGIN:VCALENDAR
VERSION:2.0
PRODID:-//wp-events-plugin.com//7.2.3.1//EN
TZID:America/Detroit
X-WR-TIMEZONE:America/Detroit
BEGIN:VEVENT
UID:66054@annarborwithkids.com
DTSTART;TZID=America/Detroit:20260330T190000
DTEND;TZID=America/Detroit:20260330T193000
DTSTAMP:20260309T194334Z
URL:https://annarborwithkids.com/events/pajama-jam/
SUMMARY:Pajama Jam Storytime!
DESCRIPTION:\nJoin AADL for a family pajama jam featuring sleep-themed stor
 ies and songs with an AADL storyteller. Come in your pajamas\, bring your 
 favorite stuffed animal or blanket\, and be ready for fun during this spec
 ial storytime.\n\n\n\nFor preschool-grade 3.\n\n\n\n\n\n\n
CATEGORIES:Arbor Annie's Highlights,Elementary,Free,Indoor
 Activities,Preschoolers,Storytime,Toddler
LOCATION:Westgate Branch of AADL\, 2503 Jackson Ave\, Ann Arbor\, Michigan\
 , 48103\, West\, United States
GEO:42.2786067;-83.78273059999998
X-APPLE-STRUCTURED-LOCATION;VALUE=URI;X-ADDRESS=2503 Jackson Ave\, Ann Arbo
 r\, Michigan\, 48103\, West\, United States;X-APPLE-RADIUS=100;X-TITLE=Wes
 tgate Branch of AADL:geo:42.2786067,-83.78273059999998
END:VEVENT
BEGIN:VTIMEZONE
TZID:America/Detroit
X-LIC-LOCATION:America/Detroit
BEGIN:DAYLIGHT
DTSTART:20260308T030000
TZOFFSETFROM:-0500
TZOFFSETTO:-0400
TZNAME:EDT
END:DAYLIGHT
END:VTIMEZONE
END:VCALENDAR