BEGIN:VCALENDAR
VERSION:2.0
PRODID:-//wp-events-plugin.com//7.2.3.1//EN
TZID:America/Detroit
X-WR-TIMEZONE:America/Detroit
BEGIN:VEVENT
UID:68113@annarborwithkids.com
DTSTART;TZID=America/Detroit:20260517T120000
DTEND;TZID=America/Detroit:20260517T150000
DTSTAMP:20260312T174240Z
URL:https://annarborwithkids.com/events/paint-like-bob-ross-oil-painting-c
 lass/
SUMMARY:Paint Like Bob Ross: Oil Painting Class
DESCRIPTION:\nHave you always wanted to paint like a famous artist such as 
 Bob Ross? Join Ted Simpson\, CRI instructor from Natures Brush Studio (nat
 uresbrushstudio.com) and he will walk you through all the steps in paintin
 g a Bob Ross inspired scene that you can take home and display! No experie
 nce necessary\, all supplies included.\n\n\n\nWhat to Expect:This program 
 is entirely indoors. Participants will need to be able to sit or stand for
  the session to complete their painting.\n\n\n\nRegister by 4p the day bef
 ore the program.\n\n\n\n\n
CATEGORIES:Advance Registration,Arbor Annie's
 Highlights,Art,Classes,Crafts,High Schoolers,Indoor
 Activities,Parents,Registration Required
LOCATION:Hudson Mills Metropark\, 8801 N. Territorial Rd\, Dexter\, Michiga
 n\, 48130\, Dexter\, United States
GEO:42.3866538;-83.9086605
X-APPLE-STRUCTURED-LOCATION;VALUE=URI;X-ADDRESS=8801 N. Territorial Rd\, De
 xter\, Michigan\, 48130\, Dexter\, United States;X-APPLE-RADIUS=100;X-TITL
 E=Hudson Mills Metropark:geo:42.3866538,-83.9086605
END:VEVENT
BEGIN:VTIMEZONE
TZID:America/Detroit
X-LIC-LOCATION:America/Detroit
BEGIN:DAYLIGHT
DTSTART:20260308T030000
TZOFFSETFROM:-0500
TZOFFSETTO:-0400
TZNAME:EDT
END:DAYLIGHT
END:VTIMEZONE
END:VCALENDAR