BEGIN:VCALENDAR
VERSION:2.0
PRODID:-//wp-events-plugin.com//7.2.3.1//EN
TZID:America/Detroit
X-WR-TIMEZONE:America/Detroit
BEGIN:VEVENT
UID:89175@annarborwithkids.com
DTSTART;TZID=America/Detroit:20260425T090000
DTEND;TZID=America/Detroit:20260425T170000
DTSTAMP:20260119T211306Z
URL:https://annarborwithkids.com/events/paddle-carving-canoe-or-kayak/
SUMMARY:Paddle Carving Canoe OR Kayak
DESCRIPTION:\nCraft your very own hand-carved paddle for your next adventur
 e! Master wood carver Caleb Davis will guide participants through the step
 s of carving their own canoe or kayak paddle. Tools and materials are prov
 ided. \n\n\n\nClass will include history of paddle carving\, tool instruct
 ion and time for lunch (not provided). Space is limited. Your choice betwe
 en carving a canoe or kayak paddle.\n\n\n\nFor ages 14+\n
CATEGORIES:Advance Registration,Arbor Annie's Highlights,Crafts,High
 Schoolers,Indoor Activities,Registration Required
LOCATION:Saline Rec Center\, 1866 Woodland Dr\, Saline\, MI\, 48176\, Salin
 e\, United States
GEO:42.195868;-83.76643200000001
X-APPLE-STRUCTURED-LOCATION;VALUE=URI;X-ADDRESS=1866 Woodland Dr\, Saline\,
  MI\, 48176\, Saline\, United States;X-APPLE-RADIUS=100;X-TITLE=Saline Rec
  Center:geo:42.195868,-83.76643200000001
END:VEVENT
BEGIN:VTIMEZONE
TZID:America/Detroit
X-LIC-LOCATION:America/Detroit
BEGIN:DAYLIGHT
DTSTART:20260308T030000
TZOFFSETFROM:-0500
TZOFFSETTO:-0400
TZNAME:EDT
END:DAYLIGHT
END:VTIMEZONE
END:VCALENDAR