BEGIN:VCALENDAR
VERSION:2.0
PRODID:-//wp-events-plugin.com//7.2.3.1//EN
TZID:America/Detroit
X-WR-TIMEZONE:America/Detroit
BEGIN:VEVENT
UID:92854@annarborwithkids.com
DTSTART;TZID=America/Detroit:20260314T140000
DTEND;TZID=America/Detroit:20260314T150000
DTSTAMP:20260306T004935Z
URL:https://annarborwithkids.com/events/outstanding-owls-family-read/
SUMMARY:Outstanding Owls - Family Read
DESCRIPTION:\nExplore “wide-eyed owls” with all their neat features—f
 rom hooked beaks to silent wings to oh-so-sharp talons—through movement\
 , artifacts\, and taxidermy. We’ll also listen to the sounds of Michigan
  owls and try to mimic them! (No live animals at this event.)\n\n\n\nFor 
 ages 5+\n\n\n\n\n
CATEGORIES:Animals,Arbor Annie's Highlights,Elementary,Free,High
 Schoolers,Indoor Activities,Middle Schoolers,Nature,Parents
LOCATION:Ypsilanti District Library - Whittaker Rd\, 5577 Whittaker Rd\, Yp
 silanti\, Michigan\, 48197\, Ypsilanti\, United States
GEO:42.208097;-83.61557
X-APPLE-STRUCTURED-LOCATION;VALUE=URI;X-ADDRESS=5577 Whittaker Rd\, Ypsilan
 ti\, Michigan\, 48197\, Ypsilanti\, United States;X-APPLE-RADIUS=100;X-TIT
 LE=Ypsilanti District Library - Whittaker Rd:geo:42.208097,-83.61557
END:VEVENT
BEGIN:VTIMEZONE
TZID:America/Detroit
X-LIC-LOCATION:America/Detroit
BEGIN:DAYLIGHT
DTSTART:20260308T030000
TZOFFSETFROM:-0500
TZOFFSETTO:-0400
TZNAME:EDT
END:DAYLIGHT
END:VTIMEZONE
END:VCALENDAR