BEGIN:VCALENDAR
VERSION:2.0
PRODID:-//wp-events-plugin.com//7.2.3.1//EN
TZID:America/Detroit
X-WR-TIMEZONE:America/Detroit
BEGIN:VEVENT
UID:59261@annarborwithkids.com
DTSTART;TZID=America/Detroit:20201031T100000
DTEND;TZID=America/Detroit:20201031T140000
DTSTAMP:20210729T225833Z
URL:https://annarborwithkids.com/events/outdoor-storytime/
SUMMARY:Outdoor Storytime
DESCRIPTION:\nThe Manchester District Library is holding an outdoor storyti
 me to kick off their All Hallow's read.\n\n\n\n\n\n\n\nThey are also hosti
 ng an outdoor storytime at 11a\n
CATEGORIES:Elementary,Halloween,Preschoolers,Storytime,Toddler
LOCATION:Manchester District Library\, 912 City Rd\, Manchester\, Michigan\
 , 48158\, Manchester\, United States
GEO:42.150142;-84.02403500000003
X-APPLE-STRUCTURED-LOCATION;VALUE=URI;X-ADDRESS=912 City Rd\, Manchester\, 
 Michigan\, 48158\, Manchester\, United States;X-APPLE-RADIUS=100;X-TITLE=M
 anchester District Library:geo:42.150142,-84.02403500000003
END:VEVENT
BEGIN:VTIMEZONE
TZID:America/Detroit
X-LIC-LOCATION:America/Detroit
BEGIN:DAYLIGHT
DTSTART:20200308T030000
TZOFFSETFROM:-0500
TZOFFSETTO:-0400
TZNAME:EDT
END:DAYLIGHT
END:VTIMEZONE
END:VCALENDAR