BEGIN:VCALENDAR
VERSION:2.0
PRODID:-//wp-events-plugin.com//7.2.3.1//EN
TZID:America/Detroit
X-WR-TIMEZONE:America/Detroit
BEGIN:VEVENT
UID:69966@annarborwithkids.com
DTSTART;TZID=America/Detroit:20260311T180000
DTEND;TZID=America/Detroit:20260311T193000
DTSTAMP:20260219T154010Z
URL:https://annarborwithkids.com/events/oscars-preview-with-russ-collins-m
 artin-bandyke/
SUMMARY:2026 Academy Awards Preview
DESCRIPTION:\nLocation Change\nThis event was moved from Michigan Theater t
 o AADL Downtown Branch in the Lower Level Program room.\n\n\n\n\nAttention
  all film fans! Join movie buffs Nick Alderink (Cinema Program Director 
 at the Michigan Theater)\, Tara Calligan (Marketing Director at the Mich
 igan Theater)\, Erica Gleichman (Head Projectionist at the Michigan Thea
 ter) and Martin Bandyke (host of Fine Tuning on Ann Arbor’s 107one)
  as they discuss who will win and who should win Oscars at the 98th Ac
 ademy Awards. This Oscars preview event will include lots of movie clips a
 nd audience participation.\n\n\n\nThis event is in partnership with the Mi
 chigan Theater.\n
CATEGORIES:Arbor Annie's Highlights,Free,High Schoolers,Indoor
 Activities,Parents,Pop Culture
LOCATION:Downtown Branch of AADL\, 343 South Fifth Avenue\, Ann Arbor\, Mic
 higan\, 48104\, Downtown\, United States
GEO:42.278198;-83.745971
X-APPLE-STRUCTURED-LOCATION;VALUE=URI;X-ADDRESS=343 South Fifth Avenue\, An
 n Arbor\, Michigan\, 48104\, Downtown\, United States;X-APPLE-RADIUS=100;X
 -TITLE=Downtown Branch of AADL:geo:42.278198,-83.745971
END:VEVENT
BEGIN:VTIMEZONE
TZID:America/Detroit
X-LIC-LOCATION:America/Detroit
BEGIN:DAYLIGHT
DTSTART:20260308T030000
TZOFFSETFROM:-0500
TZOFFSETTO:-0400
TZNAME:EDT
END:DAYLIGHT
END:VTIMEZONE
END:VCALENDAR