BEGIN:VCALENDAR
VERSION:2.0
PRODID:-//wp-events-plugin.com//7.2.3.1//EN
TZID:America/Detroit
X-WR-TIMEZONE:America/Detroit
BEGIN:VEVENT
UID:60088@annarborwithkids.com
DTSTART;TZID=America/Detroit:20251022T170000
DTEND;TZID=America/Detroit:20251022T200000
DTSTAMP:20251001T205144Z
URL:https://annarborwithkids.com/events/orchid-trunk-or-treat/
SUMMARY:St Louis Center Trunk or Treat
DESCRIPTION:\nAs part of Chelsea's Hometown Halloween weekend\, join St Lou
 is Center for a trunk or treat.\n\n\n\nActivities include the Trunk or Tre
 at\, Haunted House\, and a Community Dinner.\n\n\n\nPrizes for best trunk\
 , spookiest trunk\, and best costume.\n\n\n\nOther Events as part of Homet
 own Halloween\n\n\n\n\n\n\n\n\n
CATEGORIES:Arbor Annie's
 Highlights,Elementary,Food,Free,Halloween,Meal,Middle
 Schoolers,Parents,Preschoolers,Toddler
LOCATION:St Louis Center\, 16195 W Old US Hwy 12\, Chelsea\, Michigan\, 481
 18\, United States
GEO:42.272791;-84.108242
X-APPLE-STRUCTURED-LOCATION;VALUE=URI;X-ADDRESS=16195 W Old US Hwy 12\, Che
 lsea\, Michigan\, 48118\, United States;X-APPLE-RADIUS=100;X-TITLE=St Loui
 s Center:geo:42.272791,-84.108242
END:VEVENT
BEGIN:VTIMEZONE
TZID:America/Detroit
X-LIC-LOCATION:America/Detroit
BEGIN:DAYLIGHT
DTSTART:20250309T030000
TZOFFSETFROM:-0500
TZOFFSETTO:-0400
TZNAME:EDT
END:DAYLIGHT
END:VTIMEZONE
END:VCALENDAR