BEGIN:VCALENDAR
VERSION:2.0
PRODID:-//wp-events-plugin.com//7.2.3.1//EN
TZID:America/Detroit
X-WR-TIMEZONE:America/Detroit
BEGIN:VEVENT
UID:81893@annarborwithkids.com
DTSTART;TZID=America/Detroit:20241103T132000
DTEND;TZID=America/Detroit:20241103T164500
DTSTAMP:20241009T233208Z
URL:https://annarborwithkids.com/events/open-swim-2024-11-03/
SUMMARY:Open Swim
DESCRIPTION:\nJoin the Meri Lou Murray Rec Center for&nbsp\;Open Swim. The 
 current schedule (Fall 2024) is: \n\n\n\n\nMondays &amp\; Wednesdays - 1-5
 p\, 7-8:45p\n\n\n\nTuesdays\, Thursdays\, Fridays&nbsp\;- 1-5p\n\n\n\nFrid
 ays - Family Fun Night 5-7:30p\n\n\n\nSaturdays&nbsp\;- 1:20-4:30p\n\n\n\n
 Sundays - 1:20-4:45p\n\n\n\n\n\n
CATEGORIES:Elementary,Fitness/Health,High Schoolers,Indoor
 Activities,Middle Schoolers,Parents,Preschoolers,Sport,Swimming,Toddler
LOCATION:Meri Lou Murray Recreation Center\, 2960 Washtenaw Avenue\, Ann Ar
 bor\, Michigan\, 48104\, South Ann Arbor\, United States
GEO:42.2573731;-83.70123769999998
X-APPLE-STRUCTURED-LOCATION;VALUE=URI;X-ADDRESS=2960 Washtenaw Avenue\, Ann
  Arbor\, Michigan\, 48104\, South Ann Arbor\, United States;X-APPLE-RADIUS
 =100;X-TITLE=Meri Lou Murray Recreation Center:geo:42.2573731,-83.70123769
 999998
END:VEVENT
BEGIN:VTIMEZONE
TZID:America/Detroit
X-LIC-LOCATION:America/Detroit
BEGIN:STANDARD
DTSTART:20241103T010000
TZOFFSETFROM:-0400
TZOFFSETTO:-0500
TZNAME:EST
END:STANDARD
END:VTIMEZONE
END:VCALENDAR