BEGIN:VCALENDAR
VERSION:2.0
PRODID:-//wp-events-plugin.com//7.2.3.1//EN
TZID:America/Detroit
X-WR-TIMEZONE:America/Detroit
BEGIN:VEVENT
UID:92568@annarborwithkids.com
DTSTART;TZID=America/Detroit:20260414T173000
DTEND;TZID=America/Detroit:20260414T193000
DTSTAMP:20260323T175739Z
URL:https://annarborwithkids.com/events/open-lab-silhouette-cutting-machin
 es-die-cutters-embossers-button-makers/
SUMMARY:Open Lab: Silhouette Cutting Machines\, Die Cutters\, Embossers\, B
 utton Makers
DESCRIPTION:\nJoin Library staff for open access to select tools in the sec
 ret lab. Tools available include Silhouette cutting machines\, die cutter
 s and embossers\, button makers\, and more. \n\n\n\nDon’t have a projec
 t to bring? They'll have components to practice with the equipment. \n\n\
 n\nThis program is not a guided class. Basic instruction will be provided.
 &nbsp\;\n\n\n\nFor teens &amp\; adults. Held in Secret Lab.\n\n\n\n\n
CATEGORIES:Arbor Annie's Highlights,Free,High Schoolers,Indoor
 Activities,Parents,STEM
LOCATION:Downtown Branch of AADL\, 343 South Fifth Avenue\, Ann Arbor\, Mic
 higan\, 48104\, Downtown\, United States
GEO:42.278198;-83.745971
X-APPLE-STRUCTURED-LOCATION;VALUE=URI;X-ADDRESS=343 South Fifth Avenue\, An
 n Arbor\, Michigan\, 48104\, Downtown\, United States;X-APPLE-RADIUS=100;X
 -TITLE=Downtown Branch of AADL:geo:42.278198,-83.745971
END:VEVENT
BEGIN:VTIMEZONE
TZID:America/Detroit
X-LIC-LOCATION:America/Detroit
BEGIN:DAYLIGHT
DTSTART:20260308T030000
TZOFFSETFROM:-0500
TZOFFSETTO:-0400
TZNAME:EDT
END:DAYLIGHT
END:VTIMEZONE
END:VCALENDAR