BEGIN:VCALENDAR
VERSION:2.0
PRODID:-//wp-events-plugin.com//7.2.3.1//EN
TZID:America/Detroit
X-WR-TIMEZONE:America/Detroit
BEGIN:VEVENT
UID:93227@annarborwithkids.com
DTSTART;TZID=America/Detroit:20260423T110000
DTEND;TZID=America/Detroit:20260423T140000
DTSTAMP:20260323T183956Z
URL:https://annarborwithkids.com/events/open-lab-3d-printers-laser-engrave
 r-3d-pens-2/
SUMMARY:Open Lab: 3D Printers\, Laser Engraver\, 3D Pens
DESCRIPTION:\nJoin Library staff for open access to select tools in the sec
 ret lab.&nbsp\;\n\n\n\nTools available include 3D Printers\, Laser Engrave
 r\, 3D Pens\, and more.&nbsp\;\n\n\n\nDon’t have a project to bring? AAD
 L will have some basic materials to practice with the equipment.&nbsp\;\n\
 n\n\nThis program is not a guided class. Basic instruction will be provide
 d.&nbsp\;\n\n\n\nFor teens &amp\; adults. Held in Secret Lab.\n\n\n\n\n\n\
 n
CATEGORIES:Arbor Annie's Highlights,Crafts,Free,High Schoolers,Indoor
 Activities,Middle Schoolers,Parents
LOCATION:Downtown Branch of AADL\, 343 South Fifth Avenue\, Ann Arbor\, Mic
 higan\, 48104\, Downtown\, United States
GEO:42.278198;-83.745971
X-APPLE-STRUCTURED-LOCATION;VALUE=URI;X-ADDRESS=343 South Fifth Avenue\, An
 n Arbor\, Michigan\, 48104\, Downtown\, United States;X-APPLE-RADIUS=100;X
 -TITLE=Downtown Branch of AADL:geo:42.278198,-83.745971
END:VEVENT
BEGIN:VTIMEZONE
TZID:America/Detroit
X-LIC-LOCATION:America/Detroit
BEGIN:DAYLIGHT
DTSTART:20260308T030000
TZOFFSETFROM:-0500
TZOFFSETTO:-0400
TZNAME:EDT
END:DAYLIGHT
END:VTIMEZONE
END:VCALENDAR