BEGIN:VCALENDAR
VERSION:2.0
PRODID:-//wp-events-plugin.com//7.2.3.1//EN
TZID:America/Detroit
X-WR-TIMEZONE:America/Detroit
BEGIN:VEVENT
UID:56302@annarborwithkids.com
DTSTART;TZID=America/Detroit:20260509T110000
DTEND;TZID=America/Detroit:20260509T130000
DTSTAMP:20260416T162316Z
URL:https://annarborwithkids.com/events/open-house/
SUMMARY:Open House
DESCRIPTION:\nDiscover the magic of learning! This is the perfect opportuni
 ty to step into the classrooms at TLC Adventure Preschool and experience t
 he warm\, engaging environment they've built for their youngest learners.\
 n\n\n\nTheir program is offered for little learners aged 2.5 to 5 years ol
 d. They offer a schedule of Mondays\, Wednesdays\, and Fridays from 9a to 
 1:30p.\n\n\n\nPlease stop by with your little ones to see what makes their
  little community so special!\n\n\n\n\n\n\n
CATEGORIES:Arbor Annie's Highlights,Free,Indoor
 Activities,Parents,Preschool Open House,Preschoolers,Toddler
LOCATION:TLC Adventure Preschool\, 1400 W. Stadium Blvd\, Ann Arbor\, Michi
 gan\, 48103\, West\, United States
GEO:42.264411;-83.763982
X-APPLE-STRUCTURED-LOCATION;VALUE=URI;X-ADDRESS=1400 W. Stadium Blvd\, Ann 
 Arbor\, Michigan\, 48103\, West\, United States;X-APPLE-RADIUS=100;X-TITLE
 =TLC Adventure Preschool:geo:42.264411,-83.763982
END:VEVENT
BEGIN:VTIMEZONE
TZID:America/Detroit
X-LIC-LOCATION:America/Detroit
BEGIN:DAYLIGHT
DTSTART:20260308T030000
TZOFFSETFROM:-0500
TZOFFSETTO:-0400
TZNAME:EDT
END:DAYLIGHT
END:VTIMEZONE
END:VCALENDAR