BEGIN:VCALENDAR
VERSION:2.0
PRODID:-//wp-events-plugin.com//7.2.3.1//EN
TZID:America/Detroit
X-WR-TIMEZONE:America/Detroit
BEGIN:VEVENT
UID:93498@annarborwithkids.com
DTSTART;TZID=America/Detroit:20260531T140000
DTEND;TZID=America/Detroit:20260531T153000
DTSTAMP:20260409T183717Z
URL:https://annarborwithkids.com/events/once-in-a-blue-moon/
SUMMARY:Once in a Blue Moon
DESCRIPTION:\nMeg Gower\, author of two children’s books about the Moon\,
  leads this interactive program suitable for all ages. Using models and ot
 her tactile materials participants will learn about our closest celestial 
 neighbor.\n\n\n\n\nHow big is the Moon and how far away is it?\n\n\n\nWhy 
 are there lunar phases?\n\n\n\nCan you see the Moon in the daytime?\n\n\n\
 nHow are craters made?\n\n\n\nWhy does the Moon affect tides?\n\n\n\nDoes 
 everyone around the world see the “Man in the Moon”?\n\n\n\n\nCost: $2
 /person or $5/family. Please register for this program by emailing waterlo
 onha@gmail.com with your name\, phone number and number of people attendin
 g.\n\n\n
CATEGORIES:Advance Registration,Animals,Arbor Annie's Highlights,High
 Schoolers,Hikes/Walks,Middle Schoolers,Nature,Outdoor,Parents,Registration
 Required,Spring Fun
LOCATION:Eddy Discovery Center\, 17030 Bush Rd\, Chelsea\, Michigan\, 48118
 \, Chelsea\, United States
GEO:42.3298572;-84.08067299999999
X-APPLE-STRUCTURED-LOCATION;VALUE=URI;X-ADDRESS=17030 Bush Rd\, Chelsea\, M
 ichigan\, 48118\, Chelsea\, United States;X-APPLE-RADIUS=100;X-TITLE=Eddy 
 Discovery Center:geo:42.3298572,-84.08067299999999
END:VEVENT
BEGIN:VTIMEZONE
TZID:America/Detroit
X-LIC-LOCATION:America/Detroit
BEGIN:DAYLIGHT
DTSTART:20260308T030000
TZOFFSETFROM:-0500
TZOFFSETTO:-0400
TZNAME:EDT
END:DAYLIGHT
END:VTIMEZONE
END:VCALENDAR